BEGIN:VCALENDAR
VERSION:2.0
PRODID:-//AusschreibungsRadar//Timeline//DE
CALSCALE:GREGORIAN
METHOD:PUBLISH
X-WR-CALNAME:Projekt Offenes Verfahren (EU-weit) zur Vergabe von Gebäudereinigung
X-WR-TIMEZONE:Europe/Berlin
BEGIN:VEVENT
UID:ea9331b3c6075dec@ausschreibungsradar.com
DTSTAMP:20260424T192303Z
DTSTART;VALUE=DATE:20250821
DTEND;VALUE=DATE:20250821
SUMMARY:Ausschreibung — Offenes Verfahren (EU-weit) zur Vergabe von Gebäudereinigung
DESCRIPTION:Phase: Ausschreibung | Beschreibung: Angebote werden eingeholt | Link: https://ausschreibungsradar.com/ausschreibung/82705567-3199-459d-b145-3ec1fac2ee1c/
URL:https://ausschreibungsradar.com/ausschreibung/82705567-3199-459d-b145-3ec1fac2ee1c/
END:VEVENT
BEGIN:VEVENT
UID:96c4257dfdfc0111@ausschreibungsradar.com
DTSTAMP:20260424T192303Z
DTSTART;VALUE=DATE:20250821
DTEND;VALUE=DATE:20250821
SUMMARY:Ausschreibung — Offenes Verfahren (EU-weit) zur Vergabe von Gebäudereinigung
DESCRIPTION:Phase: Ausschreibung | Beschreibung: Offizielle Ausschreibung mit Bieterfrist. | Link: https://ausschreibungsradar.com/ausschreibung/9aa1de97-9301-45e2-a617-8bcc43aed19a/
URL:https://ausschreibungsradar.com/ausschreibung/9aa1de97-9301-45e2-a617-8bcc43aed19a/
END:VEVENT
BEGIN:VEVENT
UID:9e80ae4493938ccc@ausschreibungsradar.com
DTSTAMP:20260424T192303Z
DTSTART;VALUE=DATE:20251124
DTEND;VALUE=DATE:20251124
SUMMARY:Ausschreibung — Offenes Verfahren (EU-weit) zur Vergabe von Gebäudereinigung
DESCRIPTION:Phase: Ausschreibung | Beschreibung: Offizielle Ausschreibung mit Bieterfrist. | Link: https://ausschreibungsradar.com/ausschreibung/8d0cb994-782b-4d74-8f47-3a641b432875/
URL:https://ausschreibungsradar.com/ausschreibung/8d0cb994-782b-4d74-8f47-3a641b432875/
END:VEVENT
BEGIN:VEVENT
UID:d127bfcffad4582c@ausschreibungsradar.com
DTSTAMP:20260424T192303Z
DTSTART;VALUE=DATE:20251127
DTEND;VALUE=DATE:20251127
SUMMARY:Zuschlag — Offenes Verfahren (EU-weit) zur Vergabe von Gebäudereinigung
DESCRIPTION:Phase: Zuschlag | Beschreibung: Vergabeergebnis — Auftrag wurde erteilt oder Verfahren beendet. | Link: https://ausschreibungsradar.com/ausschreibung/3e0081d6-3d0a-450a-b6b5-d4f7baab4fad/
URL:https://ausschreibungsradar.com/ausschreibung/3e0081d6-3d0a-450a-b6b5-d4f7baab4fad/
END:VEVENT
BEGIN:VEVENT
UID:9103bc9583975194@ausschreibungsradar.com
DTSTAMP:20260424T192303Z
DTSTART;VALUE=DATE:20251219
DTEND;VALUE=DATE:20251219
SUMMARY:Vergabeergebnis — Offenes Verfahren (EU-weit) zur Vergabe von Gebäudereinigung
DESCRIPTION:Phase: Vergabeergebnis | Beschreibung: Auftrag wurde zugeschlagen | Link: https://ausschreibungsradar.com/ausschreibung/00799eae-273a-4351-b1c0-3d4c241cb4b1/
URL:https://ausschreibungsradar.com/ausschreibung/00799eae-273a-4351-b1c0-3d4c241cb4b1/
END:VEVENT
END:VCALENDAR
