BEGIN:VCALENDAR
VERSION:2.0
PRODID:-//AusschreibungsRadar//Timeline//DE
CALSCALE:GREGORIAN
METHOD:PUBLISH
X-WR-CALNAME:Projekt Bereitschaftspolizei - Wasserschutzpolizei Pirna, Neubau Die
X-WR-TIMEZONE:Europe/Berlin
BEGIN:VEVENT
UID:ba6c627de9ad1df3@ausschreibungsradar.com
DTSTAMP:20260425T202424Z
DTSTART;VALUE=DATE:20240912
DTEND;VALUE=DATE:20240912
SUMMARY:Ausschreibung — Bereitschaftspolizei - Wasserschutzpolizei Pirna\, Neubau Die
DESCRIPTION:Phase: Ausschreibung | Beschreibung: Angebote werden eingeholt | Link: https://ausschreibungsradar.com/ausschreibung/eb9931ce-cacb-4851-a87b-485b848762bd/
URL:https://ausschreibungsradar.com/ausschreibung/eb9931ce-cacb-4851-a87b-485b848762bd/
END:VEVENT
BEGIN:VEVENT
UID:d4f5ef26f99b9301@ausschreibungsradar.com
DTSTAMP:20260425T202424Z
DTSTART;VALUE=DATE:20250318
DTEND;VALUE=DATE:20250318
SUMMARY:Vergabeergebnis — Bereitschaftspolizei - Wasserschutzpolizei Pirna\, Neubau Die
DESCRIPTION:Phase: Vergabeergebnis | Beschreibung: Auftrag wurde zugeschlagen | Link: https://ausschreibungsradar.com/ausschreibung/0087e923-75aa-4164-8035-a91a1f802c92/
URL:https://ausschreibungsradar.com/ausschreibung/0087e923-75aa-4164-8035-a91a1f802c92/
END:VEVENT
END:VCALENDAR
