BEGIN:VCALENDAR
VERSION:2.0
PRODID:-//AusschreibungsRadar//Timeline//DE
CALSCALE:GREGORIAN
METHOD:PUBLISH
X-WR-CALNAME:Projekt Neubau 2,5-zügige Grundschule mit Hort in Krostitz Los 1 – V
X-WR-TIMEZONE:Europe/Berlin
BEGIN:VEVENT
UID:d6d761a97d5bc3ee@ausschreibungsradar.com
DTSTAMP:20260425T120321Z
DTSTART;VALUE=DATE:20240430
DTEND;VALUE=DATE:20240430
SUMMARY:Ausschreibung — Neubau 2\,5-zügige Grundschule mit Hort in Krostitz Los 1 – V
DESCRIPTION:Phase: Ausschreibung | Beschreibung: Angebote werden eingeholt | Link: https://ausschreibungsradar.com/ausschreibung/018f29c5-e237-416c-8d64-9e8fb4f7f5bb/
URL:https://ausschreibungsradar.com/ausschreibung/018f29c5-e237-416c-8d64-9e8fb4f7f5bb/
END:VEVENT
BEGIN:VEVENT
UID:2197532310b2e1cc@ausschreibungsradar.com
DTSTAMP:20260425T120321Z
DTSTART;VALUE=DATE:20240430
DTEND;VALUE=DATE:20240430
SUMMARY:Ausschreibung — Neubau 2\,5-zügige Grundschule mit Hort in Krostitz Los 1 – V
DESCRIPTION:Phase: Ausschreibung | Beschreibung: Offizielle Ausschreibung mit Bieterfrist. | Link: https://ausschreibungsradar.com/ausschreibung/018f2ecd-6d67-47b8-a47d-9818fe2f1371/
URL:https://ausschreibungsradar.com/ausschreibung/018f2ecd-6d67-47b8-a47d-9818fe2f1371/
END:VEVENT
BEGIN:VEVENT
UID:197c994fb2b2d00b@ausschreibungsradar.com
DTSTAMP:20260425T120321Z
DTSTART;VALUE=DATE:20250922
DTEND;VALUE=DATE:20250922
SUMMARY:Vergabeergebnis — Neubau 2\,5-zügige Grundschule mit Hort in Krostitz Los 1 – V
DESCRIPTION:Phase: Vergabeergebnis | Beschreibung: Auftrag wurde zugeschlagen | Link: https://ausschreibungsradar.com/ausschreibung/0197e42d-2ef1-4b56-841d-d52309880dba/
URL:https://ausschreibungsradar.com/ausschreibung/0197e42d-2ef1-4b56-841d-d52309880dba/
END:VEVENT
END:VCALENDAR
