BEGIN:VCALENDAR
VERSION:2.0
PRODID:-//AusschreibungsRadar//Timeline//DE
CALSCALE:GREGORIAN
METHOD:PUBLISH
X-WR-CALNAME:Projekt Caspar-Voght-Schule; Garten- und Landschaftsbauarbeiten
X-WR-TIMEZONE:Europe/Berlin
BEGIN:VEVENT
UID:c3d2ad27e7260374@ausschreibungsradar.com
DTSTAMP:20260424T091001Z
DTSTART;VALUE=DATE:20240418
DTEND;VALUE=DATE:20240418
SUMMARY:Angebotsfrist — Caspar-Voght-Schule\; Garten- und Landschaftsbauarbeiten
DESCRIPTION:Phase: Ausschreibung | Beschreibung: Angebote werden eingeholt | Link: https://ausschreibungsradar.com/ausschreibung/018de9d4-e25a-4e14-833f-80e4ec426962/ | Geschätzter Wert: 465000 €
URL:https://ausschreibungsradar.com/ausschreibung/018de9d4-e25a-4e14-833f-80e4ec426962/
END:VEVENT
BEGIN:VEVENT
UID:ff26701f9d29ff84@ausschreibungsradar.com
DTSTAMP:20260424T091001Z
DTSTART;VALUE=DATE:20240620
DTEND;VALUE=DATE:20240620
SUMMARY:Vergabeergebnis — Caspar-Voght-Schule\; Garten- und Landschaftsbauarbeiten
DESCRIPTION:Phase: Vergabeergebnis | Beschreibung: Auftrag wurde zugeschlagen | Link: https://ausschreibungsradar.com/ausschreibung/018fc8fc-7d63-448e-b90a-a0ca8e8d1535/ | Geschätzter Wert: 465000 €
URL:https://ausschreibungsradar.com/ausschreibung/018fc8fc-7d63-448e-b90a-a0ca8e8d1535/
END:VEVENT
END:VCALENDAR
