BEGIN:VCALENDAR
VERSION:2.0
PRODID:-//AusschreibungsRadar//Timeline//DE
CALSCALE:GREGORIAN
METHOD:PUBLISH
X-WR-CALNAME:Projekt Neubau 2,5-zügige Grundschule mit Hort in Krostitz Los 3 – V
X-WR-TIMEZONE:Europe/Berlin
BEGIN:VEVENT
UID:2197532310b2e1cc@ausschreibungsradar.com
DTSTAMP:20260425T155221Z
DTSTART;VALUE=DATE:20240430
DTEND;VALUE=DATE:20240430
SUMMARY:Ausschreibung — Neubau 2\,5-zügige Grundschule mit Hort in Krostitz Los 3 – V
DESCRIPTION:Phase: Ausschreibung | Beschreibung: Angebote werden eingeholt | Link: https://ausschreibungsradar.com/ausschreibung/018f2ecd-6d67-47b8-a47d-9818fe2f1371/
URL:https://ausschreibungsradar.com/ausschreibung/018f2ecd-6d67-47b8-a47d-9818fe2f1371/
END:VEVENT
BEGIN:VEVENT
UID:614313817bbb25ae@ausschreibungsradar.com
DTSTAMP:20260425T155221Z
DTSTART;VALUE=DATE:20240812
DTEND;VALUE=DATE:20240812
SUMMARY:Vergabeergebnis — Neubau 2\,5-zügige Grundschule mit Hort in Krostitz Los 3 – V
DESCRIPTION:Phase: Vergabeergebnis | Beschreibung: Sonstige Gründe | Link: https://ausschreibungsradar.com/ausschreibung/019146c9-e43f-4b71-a3a4-923c85259b23/
URL:https://ausschreibungsradar.com/ausschreibung/019146c9-e43f-4b71-a3a4-923c85259b23/
END:VEVENT
END:VCALENDAR
