BEGIN:VCALENDAR
VERSION:2.0
PRODID:-//AusschreibungsRadar//Timeline//DE
CALSCALE:GREGORIAN
METHOD:PUBLISH
X-WR-CALNAME:Projekt Lieferung HLF 20
X-WR-TIMEZONE:Europe/Berlin
BEGIN:VEVENT
UID:b70c597e6e444faf@ausschreibungsradar.com
DTSTAMP:20260425T000907Z
DTSTART;VALUE=DATE:20241002
DTEND;VALUE=DATE:20241002
SUMMARY:Angebotsfrist — Lieferung HLF 20
DESCRIPTION:Phase: Ausschreibung | Beschreibung: Angebote werden eingeholt | Link: https://ausschreibungsradar.com/ausschreibung/0191a235-cdb6-4778-98f6-cd1bb2907c0f/
URL:https://ausschreibungsradar.com/ausschreibung/0191a235-cdb6-4778-98f6-cd1bb2907c0f/
END:VEVENT
END:VCALENDAR
