BEGIN:VCALENDAR
VERSION:2.0
PRODID:-//AusschreibungsRadar//Timeline//DE
CALSCALE:GREGORIAN
METHOD:PUBLISH
X-WR-CALNAME:Projekt Neubau Rettungswache Mittweida: Los 007 - Gerüstarbeiten
X-WR-TIMEZONE:Europe/Berlin
BEGIN:VEVENT
UID:40dc5f49d1032f93@ausschreibungsradar.com
DTSTAMP:20260425T205411Z
DTSTART;VALUE=DATE:20241104
DTEND;VALUE=DATE:20241104
SUMMARY:Angebotsfrist — Neubau Rettungswache Mittweida: Los 007 - Gerüstarbeiten
DESCRIPTION:Phase: Ausschreibung | Beschreibung: Angebote werden eingeholt | Link: https://ausschreibungsradar.com/ausschreibung/0191faba-8d3a-4b00-8582-78b66381437f/
URL:https://ausschreibungsradar.com/ausschreibung/0191faba-8d3a-4b00-8582-78b66381437f/
END:VEVENT
BEGIN:VEVENT
UID:eb4c77d056a809b0@ausschreibungsradar.com
DTSTAMP:20260425T205411Z
DTSTART;VALUE=DATE:20240918
DTEND;VALUE=DATE:20240918
SUMMARY:Ausschreibung — Neubau Rettungswache Mittweida: Los 007 - Gerüstarbeiten
DESCRIPTION:Phase: Ausschreibung | Beschreibung: Offizielle Ausschreibung mit Bieterfrist. | Link: https://ausschreibungsradar.com/ausschreibung/0191fee3-11ff-451a-97bc-a94773dee78c/
URL:https://ausschreibungsradar.com/ausschreibung/0191fee3-11ff-451a-97bc-a94773dee78c/
END:VEVENT
BEGIN:VEVENT
UID:23a5c3b76655f12a@ausschreibungsradar.com
DTSTAMP:20260425T205411Z
DTSTART;VALUE=DATE:20241223
DTEND;VALUE=DATE:20241223
SUMMARY:Vergabeergebnis — Neubau Rettungswache Mittweida: Los 007 - Gerüstarbeiten
DESCRIPTION:Phase: Vergabeergebnis | Beschreibung: Auftrag wurde zugeschlagen | Link: https://ausschreibungsradar.com/ausschreibung/0193f338-a9a3-41b4-a740-8ec22309f541/
URL:https://ausschreibungsradar.com/ausschreibung/0193f338-a9a3-41b4-a740-8ec22309f541/
END:VEVENT
END:VCALENDAR
