BEGIN:VCALENDAR
VERSION:2.0
PRODID:-//AusschreibungsRadar//Timeline//DE
CALSCALE:GREGORIAN
METHOD:PUBLISH
X-WR-CALNAME:Projekt Löschgruppenfahrzeug 10, LF 10, nach DIN 14530-5:2019-11 mit
X-WR-TIMEZONE:Europe/Berlin
BEGIN:VEVENT
UID:322242f15074fe29@ausschreibungsradar.com
DTSTAMP:20260425T011507Z
DTSTART;VALUE=DATE:20241219
DTEND;VALUE=DATE:20241219
SUMMARY:Angebotsfrist — Löschgruppenfahrzeug 10\, LF 10\, nach DIN 14530-5:2019-11 mit
DESCRIPTION:Phase: Ausschreibung | Beschreibung: Angebote werden eingeholt | Link: https://ausschreibungsradar.com/ausschreibung/01927a6c-c6ab-4d17-90df-d5325076ef40/
URL:https://ausschreibungsradar.com/ausschreibung/01927a6c-c6ab-4d17-90df-d5325076ef40/
END:VEVENT
BEGIN:VEVENT
UID:95d055b99095428e@ausschreibungsradar.com
DTSTAMP:20260425T011507Z
DTSTART;VALUE=DATE:20241025
DTEND;VALUE=DATE:20241025
SUMMARY:Ausschreibung — Löschgruppenfahrzeug 10\, LF 10\, nach DIN 14530-5:2019-11 mit
DESCRIPTION:Phase: Ausschreibung | Beschreibung: Offizielle Ausschreibung mit Bieterfrist. | Link: https://ausschreibungsradar.com/ausschreibung/0193afb4-7704-480c-903f-c4614b2da2e2/
URL:https://ausschreibungsradar.com/ausschreibung/0193afb4-7704-480c-903f-c4614b2da2e2/
END:VEVENT
BEGIN:VEVENT
UID:9c9adc7c17ceb481@ausschreibungsradar.com
DTSTAMP:20260425T011507Z
DTSTART;VALUE=DATE:20250217
DTEND;VALUE=DATE:20250217
SUMMARY:Vergabeergebnis — Löschgruppenfahrzeug 10\, LF 10\, nach DIN 14530-5:2019-11 mit
DESCRIPTION:Phase: Vergabeergebnis | Beschreibung: Auftrag wurde zugeschlagen | Link: https://ausschreibungsradar.com/ausschreibung/0194f9b0-c001-4147-bcc4-6ccf3bba3e2f/
URL:https://ausschreibungsradar.com/ausschreibung/0194f9b0-c001-4147-bcc4-6ccf3bba3e2f/
END:VEVENT
END:VCALENDAR
