BEGIN:VCALENDAR
VERSION:2.0
PRODID:-//AusschreibungsRadar//Timeline//DE
CALSCALE:GREGORIAN
METHOD:PUBLISH
X-WR-CALNAME:Projekt Der Schiefe Turm, Neubau Besucherzentrum, Teilobjekt 1a, Los
X-WR-TIMEZONE:Europe/Berlin
BEGIN:VEVENT
UID:871e12a1224cd199@ausschreibungsradar.com
DTSTAMP:20260424T125024Z
DTSTART;VALUE=DATE:20241114
DTEND;VALUE=DATE:20241114
SUMMARY:Angebotsfrist — Der Schiefe Turm\, Neubau Besucherzentrum\, Teilobjekt 1a\, Los
DESCRIPTION:Phase: Ausschreibung | Beschreibung: Angebote werden eingeholt | Link: https://ausschreibungsradar.com/ausschreibung/01928a7b-127e-41b1-b3b2-16a35c1d38b7/
URL:https://ausschreibungsradar.com/ausschreibung/01928a7b-127e-41b1-b3b2-16a35c1d38b7/
END:VEVENT
BEGIN:VEVENT
UID:de0f8a749f207c07@ausschreibungsradar.com
DTSTAMP:20260424T125024Z
DTSTART;VALUE=DATE:20241014
DTEND;VALUE=DATE:20241014
SUMMARY:Ausschreibung — Der Schiefe Turm\, Neubau Besucherzentrum\, Teilobjekt 1a\, Los
DESCRIPTION:Phase: Ausschreibung | Beschreibung: Offizielle Ausschreibung mit Bieterfrist. | Link: https://ausschreibungsradar.com/ausschreibung/01928a28-d189-4872-b0ea-7f908bc2b4cd/
URL:https://ausschreibungsradar.com/ausschreibung/01928a28-d189-4872-b0ea-7f908bc2b4cd/
END:VEVENT
BEGIN:VEVENT
UID:fc2329c2efae0c45@ausschreibungsradar.com
DTSTAMP:20260424T125024Z
DTSTART;VALUE=DATE:20241014
DTEND;VALUE=DATE:20241014
SUMMARY:Ausschreibung — Der Schiefe Turm\, Neubau Besucherzentrum\, Teilobjekt 1a\, Los
DESCRIPTION:Phase: Ausschreibung | Beschreibung: Offizielle Ausschreibung mit Bieterfrist. | Link: https://ausschreibungsradar.com/ausschreibung/01928a94-6597-446d-9f6d-3422fb4debaa/
URL:https://ausschreibungsradar.com/ausschreibung/01928a94-6597-446d-9f6d-3422fb4debaa/
END:VEVENT
BEGIN:VEVENT
UID:c3f7b82ad7d1ec90@ausschreibungsradar.com
DTSTAMP:20260424T125024Z
DTSTART;VALUE=DATE:20241111
DTEND;VALUE=DATE:20241111
SUMMARY:Ausschreibung — Der Schiefe Turm\, Neubau Besucherzentrum\, Teilobjekt 1a\, Los
DESCRIPTION:Phase: Ausschreibung | Beschreibung: Offizielle Ausschreibung mit Bieterfrist. | Link: https://ausschreibungsradar.com/ausschreibung/01931be5-1a49-4574-9f64-863a8cfaf0ca/
URL:https://ausschreibungsradar.com/ausschreibung/01931be5-1a49-4574-9f64-863a8cfaf0ca/
END:VEVENT
BEGIN:VEVENT
UID:c8dc00cf3cd28aa5@ausschreibungsradar.com
DTSTAMP:20260424T125024Z
DTSTART;VALUE=DATE:20241113
DTEND;VALUE=DATE:20241113
SUMMARY:Zuschlag — Der Schiefe Turm\, Neubau Besucherzentrum\, Teilobjekt 1a\, Los
DESCRIPTION:Phase: Zuschlag | Beschreibung: Vergabeergebnis — Auftrag wurde erteilt oder Verfahren beendet. | Link: https://ausschreibungsradar.com/ausschreibung/0193255c-3a6f-4608-bc1f-46b5520e110c/
URL:https://ausschreibungsradar.com/ausschreibung/0193255c-3a6f-4608-bc1f-46b5520e110c/
END:VEVENT
BEGIN:VEVENT
UID:4ff3883f6dac89ad@ausschreibungsradar.com
DTSTAMP:20260424T125024Z
DTSTART;VALUE=DATE:20241217
DTEND;VALUE=DATE:20241217
SUMMARY:Vergabeergebnis — Der Schiefe Turm\, Neubau Besucherzentrum\, Teilobjekt 1a\, Los
DESCRIPTION:Phase: Vergabeergebnis | Beschreibung: Auftrag wurde zugeschlagen | Link: https://ausschreibungsradar.com/ausschreibung/0193d557-6a5f-40c5-adb8-b61a5afd1eb0/
URL:https://ausschreibungsradar.com/ausschreibung/0193d557-6a5f-40c5-adb8-b61a5afd1eb0/
END:VEVENT
END:VCALENDAR
