BEGIN:VCALENDAR
VERSION:2.0
PRODID:-//AusschreibungsRadar//Timeline//DE
CALSCALE:GREGORIAN
METHOD:PUBLISH
X-WR-CALNAME:Projekt KW Ratingen - Planung einer Zentratwasserbehandlung
X-WR-TIMEZONE:Europe/Berlin
BEGIN:VEVENT
UID:9b2e371a6ad48c83@ausschreibungsradar.com
DTSTAMP:20260424T150622Z
DTSTART;VALUE=DATE:20241107
DTEND;VALUE=DATE:20241107
SUMMARY:Angebotsfrist — KW Ratingen - Planung einer Zentratwasserbehandlung
DESCRIPTION:Phase: Ausschreibung | Beschreibung: Angebote werden eingeholt | Link: https://ausschreibungsradar.com/ausschreibung/01933055-7917-4a6d-84f1-4989d2d02a0f/
URL:https://ausschreibungsradar.com/ausschreibung/01933055-7917-4a6d-84f1-4989d2d02a0f/
END:VEVENT
BEGIN:VEVENT
UID:724050ac238e026e@ausschreibungsradar.com
DTSTAMP:20260424T150622Z
DTSTART;VALUE=DATE:20241209
DTEND;VALUE=DATE:20241209
SUMMARY:Vergabeergebnis — KW Ratingen - Planung einer Zentratwasserbehandlung
DESCRIPTION:Phase: Vergabeergebnis | Beschreibung: Auftrag wurde zugeschlagen | Link: https://ausschreibungsradar.com/ausschreibung/ba123ef6-3b4e-4375-a3e1-7a8f19ba0cc2/
URL:https://ausschreibungsradar.com/ausschreibung/ba123ef6-3b4e-4375-a3e1-7a8f19ba0cc2/
END:VEVENT
END:VCALENDAR
