BEGIN:VCALENDAR
VERSION:2.0
PRODID:-//AusschreibungsRadar//Timeline//DE
CALSCALE:GREGORIAN
METHOD:PUBLISH
X-WR-CALNAME:Projekt Der Schiefe Turm, Neubau Besucherzentrum, Teilobjekt 1a, Los
X-WR-TIMEZONE:Europe/Berlin
BEGIN:VEVENT
UID:a518b272a5d389b3@ausschreibungsradar.com
DTSTAMP:20260424T184546Z
DTSTART;VALUE=DATE:20241114
DTEND;VALUE=DATE:20241114
SUMMARY:Angebotsfrist — Der Schiefe Turm\, Neubau Besucherzentrum\, Teilobjekt 1a\, Los
DESCRIPTION:Phase: Ausschreibung | Beschreibung: Angebote werden eingeholt | Link: https://ausschreibungsradar.com/ausschreibung/01928b13-9517-4904-a2e6-556718e5f565/
URL:https://ausschreibungsradar.com/ausschreibung/01928b13-9517-4904-a2e6-556718e5f565/
END:VEVENT
BEGIN:VEVENT
UID:ad6b9765d1879125@ausschreibungsradar.com
DTSTAMP:20260424T184546Z
DTSTART;VALUE=DATE:20250103
DTEND;VALUE=DATE:20250103
SUMMARY:Vergabeergebnis — Der Schiefe Turm\, Neubau Besucherzentrum\, Teilobjekt 1a\, Los
DESCRIPTION:Phase: Vergabeergebnis | Beschreibung: Auftrag wurde zugeschlagen | Link: https://ausschreibungsradar.com/ausschreibung/01942b1c-80e5-438b-bb95-b500d65b5059/
URL:https://ausschreibungsradar.com/ausschreibung/01942b1c-80e5-438b-bb95-b500d65b5059/
END:VEVENT
BEGIN:VEVENT
UID:d4afad8996960ff0@ausschreibungsradar.com
DTSTAMP:20260424T184546Z
DTSTART;VALUE=DATE:20250103
DTEND;VALUE=DATE:20250103
SUMMARY:Zuschlag — Der Schiefe Turm\, Neubau Besucherzentrum\, Teilobjekt 1a\, Los
DESCRIPTION:Phase: Zuschlag | Beschreibung: Vergabeergebnis — Auftrag wurde erteilt oder Verfahren beendet. | Link: https://ausschreibungsradar.com/ausschreibung/01942b2f-12ed-4b8b-b25a-3c9d763ae935/
URL:https://ausschreibungsradar.com/ausschreibung/01942b2f-12ed-4b8b-b25a-3c9d763ae935/
END:VEVENT
BEGIN:VEVENT
UID:1de9d47b8740244f@ausschreibungsradar.com
DTSTAMP:20260424T184546Z
DTSTART;VALUE=DATE:20250131
DTEND;VALUE=DATE:20250131
SUMMARY:Ausschreibung — Der Schiefe Turm\, Neubau Besucherzentrum\, Teilobjekt 1a\, Los
DESCRIPTION:Phase: Ausschreibung | Beschreibung: Offizielle Ausschreibung mit Bieterfrist. | Link: https://ausschreibungsradar.com/ausschreibung/0194bcd1-b9f6-495f-b8b9-d894bf598c42/
URL:https://ausschreibungsradar.com/ausschreibung/0194bcd1-b9f6-495f-b8b9-d894bf598c42/
END:VEVENT
END:VCALENDAR
