BEGIN:VCALENDAR
VERSION:2.0
PRODID:-//AusschreibungsRadar//Timeline//DE
CALSCALE:GREGORIAN
METHOD:PUBLISH
X-WR-CALNAME:Projekt Sanierung Schulkomplex Görlitz-Königshufen, Förderzentrum "M
X-WR-TIMEZONE:Europe/Berlin
BEGIN:VEVENT
UID:f2fa38e0d2a05e68@ausschreibungsradar.com
DTSTAMP:20260425T140003Z
DTSTART;VALUE=DATE:20250210
DTEND;VALUE=DATE:20250210
SUMMARY:Angebotsfrist — Sanierung Schulkomplex Görlitz-Königshufen\, Förderzentrum "M
DESCRIPTION:Phase: Ausschreibung | Beschreibung: Angebote werden eingeholt | Link: https://ausschreibungsradar.com/ausschreibung/01944ef1-4424-41cc-b23e-dd15b21d8ab0/
URL:https://ausschreibungsradar.com/ausschreibung/01944ef1-4424-41cc-b23e-dd15b21d8ab0/
END:VEVENT
BEGIN:VEVENT
UID:c4ae66fe0155c944@ausschreibungsradar.com
DTSTAMP:20260425T140003Z
DTSTART;VALUE=DATE:20250205
DTEND;VALUE=DATE:20250205
SUMMARY:Zuschlag — Sanierung Schulkomplex Görlitz-Königshufen\, Förderzentrum "M
DESCRIPTION:Phase: Zuschlag | Beschreibung: Vergabeergebnis — Auftrag wurde erteilt oder Verfahren beendet. | Link: https://ausschreibungsradar.com/ausschreibung/0194d4b2-250b-4565-b1ac-ef3ca5c8c521/
URL:https://ausschreibungsradar.com/ausschreibung/0194d4b2-250b-4565-b1ac-ef3ca5c8c521/
END:VEVENT
BEGIN:VEVENT
UID:bada3749fb180197@ausschreibungsradar.com
DTSTAMP:20260425T140003Z
DTSTART;VALUE=DATE:20250319
DTEND;VALUE=DATE:20250319
SUMMARY:Vergabeergebnis — Sanierung Schulkomplex Görlitz-Königshufen\, Förderzentrum "M
DESCRIPTION:Phase: Vergabeergebnis | Beschreibung: Auftrag wurde zugeschlagen | Link: https://ausschreibungsradar.com/ausschreibung/0195adaf-82b9-4fe1-a15b-9a80d0695fa1/
URL:https://ausschreibungsradar.com/ausschreibung/0195adaf-82b9-4fe1-a15b-9a80d0695fa1/
END:VEVENT
END:VCALENDAR
