BEGIN:VCALENDAR
VERSION:2.0
PRODID:-//AusschreibungsRadar//Timeline//DE
CALSCALE:GREGORIAN
METHOD:PUBLISH
X-WR-CALNAME:Projekt Sanierung Schulkomplex Görlitz-Königshufen, Förderzentrum "M
X-WR-TIMEZONE:Europe/Berlin
BEGIN:VEVENT
UID:c4ae66fe0155c944@ausschreibungsradar.com
DTSTAMP:20260426T021344Z
DTSTART;VALUE=DATE:20250205
DTEND;VALUE=DATE:20250205
SUMMARY:Zuschlag — Sanierung Schulkomplex Görlitz-Königshufen\, Förderzentrum "M
DESCRIPTION:Phase: Zuschlag | Beschreibung: Vergabeergebnis — Auftrag wurde erteilt oder Verfahren beendet. | Link: https://ausschreibungsradar.com/ausschreibung/0194d4b2-250b-4565-b1ac-ef3ca5c8c521/
URL:https://ausschreibungsradar.com/ausschreibung/0194d4b2-250b-4565-b1ac-ef3ca5c8c521/
END:VEVENT
BEGIN:VEVENT
UID:8897e88d16ccbb9b@ausschreibungsradar.com
DTSTAMP:20260426T021344Z
DTSTART;VALUE=DATE:20250317
DTEND;VALUE=DATE:20250317
SUMMARY:Angebotsfrist — Sanierung Schulkomplex Görlitz-Königshufen\, Förderzentrum "M
DESCRIPTION:Phase: Ausschreibung | Beschreibung: Angebote werden eingeholt | Link: https://ausschreibungsradar.com/ausschreibung/0194fdc8-3e50-47f3-973c-5758b0d4e299/
URL:https://ausschreibungsradar.com/ausschreibung/0194fdc8-3e50-47f3-973c-5758b0d4e299/
END:VEVENT
BEGIN:VEVENT
UID:7274261184df166b@ausschreibungsradar.com
DTSTAMP:20260426T021344Z
DTSTART;VALUE=DATE:20250220
DTEND;VALUE=DATE:20250220
SUMMARY:Ausschreibung — Sanierung Schulkomplex Görlitz-Königshufen\, Förderzentrum "M
DESCRIPTION:Phase: Ausschreibung | Beschreibung: Offizielle Ausschreibung mit Bieterfrist. | Link: https://ausschreibungsradar.com/ausschreibung/01951e4b-e3a4-4b7e-9068-ff49283d86c6/
URL:https://ausschreibungsradar.com/ausschreibung/01951e4b-e3a4-4b7e-9068-ff49283d86c6/
END:VEVENT
BEGIN:VEVENT
UID:d28ffbd0ebe0e033@ausschreibungsradar.com
DTSTAMP:20260426T021344Z
DTSTART;VALUE=DATE:20250508
DTEND;VALUE=DATE:20250508
SUMMARY:Vergabeergebnis — Sanierung Schulkomplex Görlitz-Königshufen\, Förderzentrum "M
DESCRIPTION:Phase: Vergabeergebnis | Beschreibung: Auftrag wurde zugeschlagen | Link: https://ausschreibungsradar.com/ausschreibung/0196afcc-c534-4a89-b8aa-a666b572528c/
URL:https://ausschreibungsradar.com/ausschreibung/0196afcc-c534-4a89-b8aa-a666b572528c/
END:VEVENT
END:VCALENDAR
