BEGIN:VCALENDAR
VERSION:2.0
PRODID:-//AusschreibungsRadar//Timeline//DE
CALSCALE:GREGORIAN
METHOD:PUBLISH
X-WR-CALNAME:Projekt RSH_Los 075 Lüftung
X-WR-TIMEZONE:Europe/Berlin
BEGIN:VEVENT
UID:ebdd2a29bd18fcd2@ausschreibungsradar.com
DTSTAMP:20260425T185051Z
DTSTART;VALUE=DATE:20241114
DTEND;VALUE=DATE:20241114
SUMMARY:Angebotsfrist — RSH_Los 075 Lüftung
DESCRIPTION:Phase: Ausschreibung | Beschreibung: Angebote werden eingeholt | Link: https://ausschreibungsradar.com/ausschreibung/01928a2a-ea0e-4d25-8ae5-60ab6b5bed81/
URL:https://ausschreibungsradar.com/ausschreibung/01928a2a-ea0e-4d25-8ae5-60ab6b5bed81/
END:VEVENT
BEGIN:VEVENT
UID:d423971e587e3657@ausschreibungsradar.com
DTSTAMP:20260425T185051Z
DTSTART;VALUE=DATE:20250304
DTEND;VALUE=DATE:20250304
SUMMARY:Vergabeergebnis — RSH_Los 075 Lüftung
DESCRIPTION:Phase: Vergabeergebnis | Beschreibung: Bedarf hat sich geändert | Link: https://ausschreibungsradar.com/ausschreibung/01956144-bf0e-48c3-b7cd-4b3378f89434/
URL:https://ausschreibungsradar.com/ausschreibung/01956144-bf0e-48c3-b7cd-4b3378f89434/
END:VEVENT
END:VCALENDAR
