BEGIN:VCALENDAR
VERSION:2.0
PRODID:-//AusschreibungsRadar//Timeline//DE
CALSCALE:GREGORIAN
METHOD:PUBLISH
X-WR-CALNAME:Projekt Sanierung Schulkomplex Görlitz-Königshufen, Förderzentrum "M
X-WR-TIMEZONE:Europe/Berlin
BEGIN:VEVENT
UID:bada3749fb180197@ausschreibungsradar.com
DTSTAMP:20260425T031138Z
DTSTART;VALUE=DATE:20250319
DTEND;VALUE=DATE:20250319
SUMMARY:Zuschlag — Sanierung Schulkomplex Görlitz-Königshufen\, Förderzentrum "M
DESCRIPTION:Phase: Zuschlag | Beschreibung: Vergabeergebnis — Auftrag wurde erteilt oder Verfahren beendet. | Link: https://ausschreibungsradar.com/ausschreibung/0195adaf-82b9-4fe1-a15b-9a80d0695fa1/
URL:https://ausschreibungsradar.com/ausschreibung/0195adaf-82b9-4fe1-a15b-9a80d0695fa1/
END:VEVENT
BEGIN:VEVENT
UID:facd217c7aaa2ffa@ausschreibungsradar.com
DTSTAMP:20260425T031138Z
DTSTART;VALUE=DATE:20250506
DTEND;VALUE=DATE:20250506
SUMMARY:Angebotsfrist — Sanierung Schulkomplex Görlitz-Königshufen\, Förderzentrum "M
DESCRIPTION:Phase: Ausschreibung | Beschreibung: Angebote werden eingeholt | Link: https://ausschreibungsradar.com/ausschreibung/0195fa46-3926-44e6-afee-1de7df49e4ab/
URL:https://ausschreibungsradar.com/ausschreibung/0195fa46-3926-44e6-afee-1de7df49e4ab/
END:VEVENT
BEGIN:VEVENT
UID:85d36e9666c5bd52@ausschreibungsradar.com
DTSTAMP:20260425T031138Z
DTSTART;VALUE=DATE:20250425
DTEND;VALUE=DATE:20250425
SUMMARY:Ausschreibung — Sanierung Schulkomplex Görlitz-Königshufen\, Förderzentrum "M
DESCRIPTION:Phase: Ausschreibung | Beschreibung: Offizielle Ausschreibung mit Bieterfrist. | Link: https://ausschreibungsradar.com/ausschreibung/019642c9-74a2-48ce-9b4d-de5cd7d34efb/
URL:https://ausschreibungsradar.com/ausschreibung/019642c9-74a2-48ce-9b4d-de5cd7d34efb/
END:VEVENT
BEGIN:VEVENT
UID:04650ba41afc7b6b@ausschreibungsradar.com
DTSTAMP:20260425T031138Z
DTSTART;VALUE=DATE:20250715
DTEND;VALUE=DATE:20250715
SUMMARY:Vergabeergebnis — Sanierung Schulkomplex Görlitz-Königshufen\, Förderzentrum "M
DESCRIPTION:Phase: Vergabeergebnis | Beschreibung: Auftrag wurde zugeschlagen | Link: https://ausschreibungsradar.com/ausschreibung/01980c7b-0ffc-4a1c-88db-c993a0778364/
URL:https://ausschreibungsradar.com/ausschreibung/01980c7b-0ffc-4a1c-88db-c993a0778364/
END:VEVENT
END:VCALENDAR
