BEGIN:VCALENDAR
VERSION:2.0
PRODID:-//AusschreibungsRadar//Timeline//DE
CALSCALE:GREGORIAN
METHOD:PUBLISH
X-WR-CALNAME:Projekt GPS_Los 5 - TO 6.1 Ausführung Ausgleichs- und Ersatzmaßnahme
X-WR-TIMEZONE:Europe/Berlin
BEGIN:VEVENT
UID:d99272d7a9f0c7d4@ausschreibungsradar.com
DTSTAMP:20260425T113111Z
DTSTART;VALUE=DATE:20250217
DTEND;VALUE=DATE:20250217
SUMMARY:Angebotsfrist — GPS_Los 5 - TO 6.1 Ausführung Ausgleichs- und Ersatzmaßnahme
DESCRIPTION:Phase: Ausschreibung | Beschreibung: Angebote werden eingeholt | Link: https://ausschreibungsradar.com/ausschreibung/01946443-d8be-44e0-bb37-f8be9a472153/
URL:https://ausschreibungsradar.com/ausschreibung/01946443-d8be-44e0-bb37-f8be9a472153/
END:VEVENT
BEGIN:VEVENT
UID:c871a10d5b01dcf0@ausschreibungsradar.com
DTSTAMP:20260425T113111Z
DTSTART;VALUE=DATE:20250425
DTEND;VALUE=DATE:20250425
SUMMARY:Vergabeergebnis — GPS_Los 5 - TO 6.1 Ausführung Ausgleichs- und Ersatzmaßnahme
DESCRIPTION:Phase: Vergabeergebnis | Beschreibung: Auftrag wurde zugeschlagen | Link: https://ausschreibungsradar.com/ausschreibung/01966b6c-3f27-4bf9-9f52-4451c42b894f/
URL:https://ausschreibungsradar.com/ausschreibung/01966b6c-3f27-4bf9-9f52-4451c42b894f/
END:VEVENT
END:VCALENDAR
