BEGIN:VCALENDAR
VERSION:2.0
PRODID:-//AusschreibungsRadar//Timeline//DE
CALSCALE:GREGORIAN
METHOD:PUBLISH
X-WR-CALNAME:Projekt Planungsleistung für die Trinkwasserversorgung Sülzfeld
X-WR-TIMEZONE:Europe/Berlin
BEGIN:VEVENT
UID:0b6901ae4341aa43@ausschreibungsradar.com
DTSTAMP:20260424T020816Z
DTSTART;VALUE=DATE:20240207
DTEND;VALUE=DATE:20240207
SUMMARY:Ausschreibung — Planungsleistung für die Trinkwasserversorgung Sülzfeld
DESCRIPTION:Phase: Ausschreibung | Beschreibung: Angebote werden eingeholt | Link: https://ausschreibungsradar.com/ausschreibung/018cf39b-1981-4f04-9d6f-e60f4d181a5d/ | Geschätzter Wert: 362601 €
URL:https://ausschreibungsradar.com/ausschreibung/018cf39b-1981-4f04-9d6f-e60f4d181a5d/
END:VEVENT
BEGIN:VEVENT
UID:eec4a12d004523e2@ausschreibungsradar.com
DTSTAMP:20260424T020816Z
DTSTART;VALUE=DATE:20240807
DTEND;VALUE=DATE:20240807
SUMMARY:Vergabeergebnis — Planungsleistung für die Trinkwasserversorgung Sülzfeld
DESCRIPTION:Phase: Vergabeergebnis | Beschreibung: Auftrag wurde zugeschlagen | Link: https://ausschreibungsradar.com/ausschreibung/0197e8cd-28ac-45b2-911e-85de973c72e3/ | Geschätzter Wert: 362601 €
URL:https://ausschreibungsradar.com/ausschreibung/0197e8cd-28ac-45b2-911e-85de973c72e3/
END:VEVENT
BEGIN:VEVENT
UID:9b6aaa8353a0640e@ausschreibungsradar.com
DTSTAMP:20260424T020816Z
DTSTART;VALUE=DATE:20240807
DTEND;VALUE=DATE:20240807
SUMMARY:Zuschlag — Planungsleistung für die Trinkwasserversorgung Sülzfeld
DESCRIPTION:Phase: Zuschlag | Beschreibung: Vergabeergebnis — Auftrag wurde erteilt oder Verfahren beendet. | Link: https://ausschreibungsradar.com/ausschreibung/01912bba-16c0-4a18-a4c9-a2c967a59e91/
URL:https://ausschreibungsradar.com/ausschreibung/01912bba-16c0-4a18-a4c9-a2c967a59e91/
END:VEVENT
END:VCALENDAR
