BEGIN:VCALENDAR
VERSION:2.0
PRODID:-//AusschreibungsRadar//Timeline//DE
CALSCALE:GREGORIAN
METHOD:PUBLISH
X-WR-CALNAME:Projekt Neubau OFW Zug / Sanierung alte Schule, 126001-MZ001 Feuerwe
X-WR-TIMEZONE:Europe/Berlin
BEGIN:VEVENT
UID:e0da699126dba670@ausschreibungsradar.com
DTSTAMP:20260425T111514Z
DTSTART;VALUE=DATE:20250815
DTEND;VALUE=DATE:20250815
SUMMARY:Ausschreibung — Neubau OFW Zug / Sanierung alte Schule\, 126001-MZ001 Feuerwe
DESCRIPTION:Phase: Ausschreibung | Beschreibung: Offizielle Ausschreibung mit Bieterfrist. | Link: https://ausschreibungsradar.com/ausschreibung/0198adc6-8da1-4ade-85b9-331bc7b19fdb/
URL:https://ausschreibungsradar.com/ausschreibung/0198adc6-8da1-4ade-85b9-331bc7b19fdb/
END:VEVENT
BEGIN:VEVENT
UID:ac87a24db6d26c2a@ausschreibungsradar.com
DTSTAMP:20260425T111514Z
DTSTART;VALUE=DATE:20250819
DTEND;VALUE=DATE:20250819
SUMMARY:Zuschlag — Neubau OFW Zug / Sanierung alte Schule\, 126001-MZ001 Feuerwe
DESCRIPTION:Phase: Zuschlag | Beschreibung: Vergabeergebnis — Auftrag wurde erteilt oder Verfahren beendet. | Link: https://ausschreibungsradar.com/ausschreibung/0198c276-7d88-40ed-b0ec-88ccf5bcb5c9/
URL:https://ausschreibungsradar.com/ausschreibung/0198c276-7d88-40ed-b0ec-88ccf5bcb5c9/
END:VEVENT
BEGIN:VEVENT
UID:cd2eea2364c1734d@ausschreibungsradar.com
DTSTAMP:20260425T111514Z
DTSTART;VALUE=DATE:20251021
DTEND;VALUE=DATE:20251021
SUMMARY:Angebotsfrist — Neubau OFW Zug / Sanierung alte Schule\, 126001-MZ001 Feuerwe
DESCRIPTION:Phase: Ausschreibung | Beschreibung: Angebote werden eingeholt | Link: https://ausschreibungsradar.com/ausschreibung/019913f5-cdbb-480c-ab53-c651b8dc2356/ | Geschätzter Wert: 39000 €
URL:https://ausschreibungsradar.com/ausschreibung/019913f5-cdbb-480c-ab53-c651b8dc2356/
END:VEVENT
END:VCALENDAR
