BEGIN:VCALENDAR
VERSION:2.0
PRODID:-//AusschreibungsRadar//Timeline//DE
CALSCALE:GREGORIAN
METHOD:PUBLISH
X-WR-CALNAME:Projekt Planerausschreibung für Elektroplanung zur Schaffung eines n
X-WR-TIMEZONE:Europe/Berlin
BEGIN:VEVENT
UID:35f72095dd8820ce@ausschreibungsradar.com
DTSTAMP:20260425T131412Z
DTSTART;VALUE=DATE:20251117
DTEND;VALUE=DATE:20251117
SUMMARY:Angebotsfrist — Planerausschreibung für Elektroplanung zur Schaffung eines n
DESCRIPTION:Phase: Ausschreibung | Beschreibung: Angebote werden eingeholt | Link: https://ausschreibungsradar.com/ausschreibung/0199cd20-415a-49f5-9849-5b37b49fca83/ | Geschätzter Wert: 45000 €
URL:https://ausschreibungsradar.com/ausschreibung/0199cd20-415a-49f5-9849-5b37b49fca83/
END:VEVENT
BEGIN:VEVENT
UID:e55cc8bbf149df23@ausschreibungsradar.com
DTSTAMP:20260425T131412Z
DTSTART;VALUE=DATE:20251013
DTEND;VALUE=DATE:20251013
SUMMARY:Ausschreibung — Planerausschreibung für Elektroplanung zur Schaffung eines n
DESCRIPTION:Phase: Ausschreibung | Beschreibung: Offizielle Ausschreibung mit Bieterfrist. | Link: https://ausschreibungsradar.com/ausschreibung/0199cd57-8980-4125-a8f2-e90093994884/
URL:https://ausschreibungsradar.com/ausschreibung/0199cd57-8980-4125-a8f2-e90093994884/
END:VEVENT
END:VCALENDAR
