BEGIN:VCALENDAR
VERSION:2.0
PRODID:-//AusschreibungsRadar//Timeline//DE
CALSCALE:GREGORIAN
METHOD:PUBLISH
X-WR-CALNAME:Projekt Bildungscampus - Neue Oberschule in Görlitz | Los 0102 - Ger
X-WR-TIMEZONE:Europe/Berlin
BEGIN:VEVENT
UID:54c30f4a5a57f69b@ausschreibungsradar.com
DTSTAMP:20260424T211858Z
DTSTART;VALUE=DATE:20251030
DTEND;VALUE=DATE:20251030
SUMMARY:Ausschreibung — Bildungscampus - Neue Oberschule in Görlitz | Los 0102 - Ger
DESCRIPTION:Phase: Ausschreibung | Beschreibung: Offizielle Ausschreibung mit Bieterfrist. | Link: https://ausschreibungsradar.com/ausschreibung/019a3468-7327-43c1-929a-a47dcc0d6ade/
URL:https://ausschreibungsradar.com/ausschreibung/019a3468-7327-43c1-929a-a47dcc0d6ade/
END:VEVENT
BEGIN:VEVENT
UID:29aa50553f0f5484@ausschreibungsradar.com
DTSTAMP:20260424T211858Z
DTSTART;VALUE=DATE:20251208
DTEND;VALUE=DATE:20251208
SUMMARY:Angebotsfrist — Bildungscampus - Neue Oberschule in Görlitz | Los 0102 - Ger
DESCRIPTION:Phase: Ausschreibung | Beschreibung: Angebote werden eingeholt | Link: https://ausschreibungsradar.com/ausschreibung/019a344a-2f95-42fd-ac1b-d9c631e17359/
URL:https://ausschreibungsradar.com/ausschreibung/019a344a-2f95-42fd-ac1b-d9c631e17359/
END:VEVENT
BEGIN:VEVENT
UID:4b7024739b820309@ausschreibungsradar.com
DTSTAMP:20260424T211858Z
DTSTART;VALUE=DATE:20260122
DTEND;VALUE=DATE:20260122
SUMMARY:Vergabeergebnis — Bildungscampus - Neue Oberschule in Görlitz | Los 0102 - Ger
DESCRIPTION:Phase: Vergabeergebnis | Beschreibung: Auftrag wurde zugeschlagen | Link: https://ausschreibungsradar.com/ausschreibung/019be452-abbf-4a77-bdb3-2965f2ddfddd/
URL:https://ausschreibungsradar.com/ausschreibung/019be452-abbf-4a77-bdb3-2965f2ddfddd/
END:VEVENT
END:VCALENDAR
