BEGIN:VCALENDAR
VERSION:2.0
PRODID:-//AusschreibungsRadar//Timeline//DE
CALSCALE:GREGORIAN
METHOD:PUBLISH
X-WR-CALNAME:Projekt Bereitstellung und Betrieb von Kubernetes-Clustern für eine 
X-WR-TIMEZONE:Europe/Berlin
BEGIN:VEVENT
UID:059b6a91cdd1427b@ausschreibungsradar.com
DTSTAMP:20260425T204834Z
DTSTART;VALUE=DATE:20251202
DTEND;VALUE=DATE:20251202
SUMMARY:Angebotsfrist — Bereitstellung und Betrieb von Kubernetes-Clustern für eine 
DESCRIPTION:Phase: Ausschreibung | Beschreibung: Angebote werden eingeholt | Link: https://ausschreibungsradar.com/ausschreibung/019a355c-68b4-4faf-8be4-1700393ab024/ | Geschätzter Wert: 400000 €
URL:https://ausschreibungsradar.com/ausschreibung/019a355c-68b4-4faf-8be4-1700393ab024/
END:VEVENT
BEGIN:VEVENT
UID:2f1a0f6754abacd6@ausschreibungsradar.com
DTSTAMP:20260425T204834Z
DTSTART;VALUE=DATE:20260114
DTEND;VALUE=DATE:20260114
SUMMARY:Vergabeergebnis — Bereitstellung und Betrieb von Kubernetes-Clustern für eine 
DESCRIPTION:Phase: Vergabeergebnis | Beschreibung: Auftrag wurde zugeschlagen | Link: https://ausschreibungsradar.com/ausschreibung/019b9de1-f1db-48d1-8d59-c89394eccd68/ | Geschätzter Wert: 400000 €
URL:https://ausschreibungsradar.com/ausschreibung/019b9de1-f1db-48d1-8d59-c89394eccd68/
END:VEVENT
END:VCALENDAR
