BEGIN:VCALENDAR
VERSION:2.0
PRODID:-//AusschreibungsRadar//Timeline//DE
CALSCALE:GREGORIAN
METHOD:PUBLISH
X-WR-CALNAME:Projekt Bahnareal Meiningen - Planungs- u. Objektüberwachungsleistun
X-WR-TIMEZONE:Europe/Berlin
BEGIN:VEVENT
UID:099d393fe10cce06@ausschreibungsradar.com
DTSTAMP:20260425T162732Z
DTSTART;VALUE=DATE:20251222
DTEND;VALUE=DATE:20251222
SUMMARY:Ausschreibung — Bahnareal Meiningen - Planungs- u. Objektüberwachungsleistun
DESCRIPTION:Phase: Ausschreibung | Beschreibung: Angebote werden eingeholt | Link: https://ausschreibungsradar.com/ausschreibung/019b234e-282c-4717-b6b7-232b78db42b4/
URL:https://ausschreibungsradar.com/ausschreibung/019b234e-282c-4717-b6b7-232b78db42b4/
END:VEVENT
BEGIN:VEVENT
UID:c5260692ac5483c6@ausschreibungsradar.com
DTSTAMP:20260425T162732Z
DTSTART;VALUE=DATE:20251222
DTEND;VALUE=DATE:20251222
SUMMARY:Ausschreibung — Bahnareal Meiningen - Planungs- u. Objektüberwachungsleistun
DESCRIPTION:Phase: Ausschreibung | Beschreibung: Offizielle Ausschreibung mit Bieterfrist. | Link: https://ausschreibungsradar.com/ausschreibung/019b2237-eccb-4ae7-bb1f-68fe285dbed5/
URL:https://ausschreibungsradar.com/ausschreibung/019b2237-eccb-4ae7-bb1f-68fe285dbed5/
END:VEVENT
BEGIN:VEVENT
UID:e2496a67689c19a5@ausschreibungsradar.com
DTSTAMP:20260425T162732Z
DTSTART;VALUE=DATE:20260312
DTEND;VALUE=DATE:20260312
SUMMARY:Vergabeergebnis — Bahnareal Meiningen - Planungs- u. Objektüberwachungsleistun
DESCRIPTION:Phase: Vergabeergebnis | Beschreibung: Nur ein zulässiges Angebot | Link: https://ausschreibungsradar.com/ausschreibung/019c900e-38e5-49c2-a8dc-ddc1cbdf0053/
URL:https://ausschreibungsradar.com/ausschreibung/019c900e-38e5-49c2-a8dc-ddc1cbdf0053/
END:VEVENT
END:VCALENDAR
