BEGIN:VCALENDAR
VERSION:2.0
PRODID:-//AusschreibungsRadar//Timeline//DE
CALSCALE:GREGORIAN
METHOD:PUBLISH
X-WR-CALNAME:Projekt Feuerlöschfahrzeug
X-WR-TIMEZONE:Europe/Berlin
BEGIN:VEVENT
UID:b84a42be25345542@ausschreibungsradar.com
DTSTAMP:20260424T091021Z
DTSTART;VALUE=DATE:20260506
DTEND;VALUE=DATE:20260506
SUMMARY:Angebotsfrist — Feuerlöschfahrzeug
DESCRIPTION:Phase: Ausschreibung | Beschreibung: Angebote werden eingeholt | Link: https://ausschreibungsradar.com/ausschreibung/019d0126-bbf5-451c-853b-3a2324b2e15a/ | Geschätzter Wert: 670000 €
URL:https://ausschreibungsradar.com/ausschreibung/019d0126-bbf5-451c-853b-3a2324b2e15a/
END:VEVENT
END:VCALENDAR
