BEGIN:VCALENDAR
VERSION:2.0
PRODID:-//AusschreibungsRadar//Timeline//DE
CALSCALE:GREGORIAN
METHOD:PUBLISH
X-WR-CALNAME:Projekt VE23 Stark- und Schwachstrom
X-WR-TIMEZONE:Europe/Berlin
BEGIN:VEVENT
UID:9ae0adf8cb0550f9@ausschreibungsradar.com
DTSTAMP:20260424T105600Z
DTSTART;VALUE=DATE:20260521
DTEND;VALUE=DATE:20260521
SUMMARY:Angebotsfrist — VE23 Stark- und Schwachstrom
DESCRIPTION:Phase: Ausschreibung | Beschreibung: Angebote werden eingeholt | Link: https://ausschreibungsradar.com/ausschreibung/019d6cf6-2880-4663-bfa2-788a4a26cb98/
URL:https://ausschreibungsradar.com/ausschreibung/019d6cf6-2880-4663-bfa2-788a4a26cb98/
END:VEVENT
BEGIN:VEVENT
UID:0508b50b653b2fd1@ausschreibungsradar.com
DTSTAMP:20260424T105600Z
DTSTART;VALUE=DATE:20260420
DTEND;VALUE=DATE:20260420
SUMMARY:Ausschreibung — VE23 Stark- und Schwachstrom
DESCRIPTION:Phase: Ausschreibung | Beschreibung: Offizielle Ausschreibung mit Bieterfrist. | Link: https://ausschreibungsradar.com/ausschreibung/ted-266381-2026/
URL:https://ausschreibungsradar.com/ausschreibung/ted-266381-2026/
END:VEVENT
END:VCALENDAR
