BEGIN:VCALENDAR
VERSION:2.0
PRODID:-//AusschreibungsRadar//Timeline//DE
CALSCALE:GREGORIAN
METHOD:PUBLISH
X-WR-CALNAME:Projekt OP-Exoskop Neuro
X-WR-TIMEZONE:Europe/Berlin
BEGIN:VEVENT
UID:e102841f57578632@ausschreibungsradar.com
DTSTAMP:20260425T194310Z
DTSTART;VALUE=DATE:20240620
DTEND;VALUE=DATE:20240620
SUMMARY:Angebotsfrist — OP-Exoskop Neuro
DESCRIPTION:Phase: Ausschreibung | Beschreibung: Angebote werden eingeholt | Link: https://ausschreibungsradar.com/ausschreibung/01d86d80-5e1e-4f6a-be31-35348665591a/
URL:https://ausschreibungsradar.com/ausschreibung/01d86d80-5e1e-4f6a-be31-35348665591a/
END:VEVENT
BEGIN:VEVENT
UID:a07c25b989248e3d@ausschreibungsradar.com
DTSTAMP:20260425T194310Z
DTSTART;VALUE=DATE:20240513
DTEND;VALUE=DATE:20240513
SUMMARY:Ausschreibung — OP-Exoskop Neuro
DESCRIPTION:Phase: Ausschreibung | Beschreibung: Offizielle Ausschreibung mit Bieterfrist. | Link: https://ausschreibungsradar.com/ausschreibung/9f77731a-995a-4f22-84f1-d5d2c8ca8558/
URL:https://ausschreibungsradar.com/ausschreibung/9f77731a-995a-4f22-84f1-d5d2c8ca8558/
END:VEVENT
BEGIN:VEVENT
UID:8f9871e2bca0e382@ausschreibungsradar.com
DTSTAMP:20260425T194310Z
DTSTART;VALUE=DATE:20240513
DTEND;VALUE=DATE:20240513
SUMMARY:Ausschreibung — OP-Exoskop Neuro
DESCRIPTION:Phase: Ausschreibung | Beschreibung: Offizielle Ausschreibung mit Bieterfrist. | Link: https://ausschreibungsradar.com/ausschreibung/468d79e9-619b-4632-8ede-eba2d90ac4c6/
URL:https://ausschreibungsradar.com/ausschreibung/468d79e9-619b-4632-8ede-eba2d90ac4c6/
END:VEVENT
BEGIN:VEVENT
UID:83a66bd30f06c7e2@ausschreibungsradar.com
DTSTAMP:20260425T194310Z
DTSTART;VALUE=DATE:20241203
DTEND;VALUE=DATE:20241203
SUMMARY:Vergabeergebnis — OP-Exoskop Neuro
DESCRIPTION:Phase: Vergabeergebnis | Beschreibung: Mittel nicht ausreichend | Link: https://ausschreibungsradar.com/ausschreibung/41ece676-d070-4365-9555-293f5a04f181/
URL:https://ausschreibungsradar.com/ausschreibung/41ece676-d070-4365-9555-293f5a04f181/
END:VEVENT
END:VCALENDAR
