BEGIN:VCALENDAR
VERSION:2.0
PRODID:-//AusschreibungsRadar//Timeline//DE
CALSCALE:GREGORIAN
METHOD:PUBLISH
X-WR-CALNAME:Projekt Komplexvorhaben Lößnitzbach - BA 2
X-WR-TIMEZONE:Europe/Berlin
BEGIN:VEVENT
UID:33e00ed5e509ff24@ausschreibungsradar.com
DTSTAMP:20260424T232946Z
DTSTART;VALUE=DATE:20250710
DTEND;VALUE=DATE:20250710
SUMMARY:Angebotsfrist — Komplexvorhaben Lößnitzbach - BA 2
DESCRIPTION:Phase: Ausschreibung | Beschreibung: Angebote werden eingeholt | Link: https://ausschreibungsradar.com/ausschreibung/02c341c0-ac49-47ab-a830-de443ceaf57f/
URL:https://ausschreibungsradar.com/ausschreibung/02c341c0-ac49-47ab-a830-de443ceaf57f/
END:VEVENT
BEGIN:VEVENT
UID:618a9c20c5f107c4@ausschreibungsradar.com
DTSTAMP:20260424T232946Z
DTSTART;VALUE=DATE:20250624
DTEND;VALUE=DATE:20250624
SUMMARY:Ausschreibung — Komplexvorhaben Lößnitzbach - BA 2
DESCRIPTION:Phase: Ausschreibung | Beschreibung: Offizielle Ausschreibung mit Bieterfrist. | Link: https://ausschreibungsradar.com/ausschreibung/24022032/
URL:https://ausschreibungsradar.com/ausschreibung/24022032/
END:VEVENT
BEGIN:VEVENT
UID:4275cffa49078b1d@ausschreibungsradar.com
DTSTAMP:20260424T232946Z
DTSTART;VALUE=DATE:20250829
DTEND;VALUE=DATE:20250829
SUMMARY:Vergabeergebnis — Komplexvorhaben Lößnitzbach - BA 2
DESCRIPTION:Phase: Vergabeergebnis | Beschreibung: Auftrag wurde zugeschlagen | Link: https://ausschreibungsradar.com/ausschreibung/226f2ceb-221f-4901-a691-a739440424a7/ | Geschätzter Wert: 1600000 €
URL:https://ausschreibungsradar.com/ausschreibung/226f2ceb-221f-4901-a691-a739440424a7/
END:VEVENT
END:VCALENDAR
