BEGIN:VCALENDAR
VERSION:2.0
PRODID:-//AusschreibungsRadar//Timeline//DE
CALSCALE:GREGORIAN
METHOD:PUBLISH
X-WR-CALNAME:Projekt Erweiterung der Grundschule in 56242 Marienrachdorf - Planun
X-WR-TIMEZONE:Europe/Berlin
BEGIN:VEVENT
UID:37e3009c34817fc8@ausschreibungsradar.com
DTSTAMP:20260426T004036Z
DTSTART;VALUE=DATE:20240330
DTEND;VALUE=DATE:20240330
SUMMARY:Ausschreibung — Erweiterung der Grundschule in 56242 Marienrachdorf - Planun
DESCRIPTION:Phase: Ausschreibung | Beschreibung: Angebote werden eingeholt | Link: https://ausschreibungsradar.com/ausschreibung/02ec50e7-50c8-4daf-8fc8-1b3a613b183a/
URL:https://ausschreibungsradar.com/ausschreibung/02ec50e7-50c8-4daf-8fc8-1b3a613b183a/
END:VEVENT
BEGIN:VEVENT
UID:7153bbfa78580774@ausschreibungsradar.com
DTSTAMP:20260426T004036Z
DTSTART;VALUE=DATE:20240330
DTEND;VALUE=DATE:20240330
SUMMARY:Ausschreibung — Erweiterung der Grundschule in 56242 Marienrachdorf - Planun
DESCRIPTION:Phase: Ausschreibung | Beschreibung: Offizielle Ausschreibung mit Bieterfrist. | Link: https://ausschreibungsradar.com/ausschreibung/6f4fc544-33d1-4dfe-a6ee-9f9de32402c6/
URL:https://ausschreibungsradar.com/ausschreibung/6f4fc544-33d1-4dfe-a6ee-9f9de32402c6/
END:VEVENT
BEGIN:VEVENT
UID:869fb250fc34e880@ausschreibungsradar.com
DTSTAMP:20260426T004036Z
DTSTART;VALUE=DATE:20240402
DTEND;VALUE=DATE:20240402
SUMMARY:Ausschreibung — Erweiterung der Grundschule in 56242 Marienrachdorf - Planun
DESCRIPTION:Phase: Ausschreibung | Beschreibung: Offizielle Ausschreibung mit Bieterfrist. | Link: https://ausschreibungsradar.com/ausschreibung/ted-192704-2024/
URL:https://ausschreibungsradar.com/ausschreibung/ted-192704-2024/
END:VEVENT
BEGIN:VEVENT
UID:659ffd68da2d23d5@ausschreibungsradar.com
DTSTAMP:20260426T004036Z
DTSTART;VALUE=DATE:20240816
DTEND;VALUE=DATE:20240816
SUMMARY:Vergabeergebnis — Erweiterung der Grundschule in 56242 Marienrachdorf - Planun
DESCRIPTION:Phase: Vergabeergebnis | Beschreibung: Verfahren beendet ohne Vergabe | Link: https://ausschreibungsradar.com/ausschreibung/0d70187a-764b-4359-b817-16b7b25686f3/ | Geschätzter Wert: 125655 €
URL:https://ausschreibungsradar.com/ausschreibung/0d70187a-764b-4359-b817-16b7b25686f3/
END:VEVENT
END:VCALENDAR
