BEGIN:VCALENDAR
VERSION:2.0
PRODID:-//AusschreibungsRadar//Timeline//DE
CALSCALE:GREGORIAN
METHOD:PUBLISH
X-WR-CALNAME:Projekt Bauüberwachungsleistungen (IOH, SiGeKo, LST, TK, EEA), VST H
X-WR-TIMEZONE:Europe/Berlin
BEGIN:VEVENT
UID:eeadd790b83f404d@ausschreibungsradar.com
DTSTAMP:20260424T063241Z
DTSTART;VALUE=DATE:20251107
DTEND;VALUE=DATE:20251107
SUMMARY:Ausschreibung — Bauüberwachungsleistungen (IOH\, SiGeKo\, LST\, TK\, EEA)\, VST H
DESCRIPTION:Phase: Ausschreibung | Beschreibung: Angebote werden eingeholt | Link: https://ausschreibungsradar.com/ausschreibung/03109904-c56f-4068-ae6c-be5ced9ddb08/
URL:https://ausschreibungsradar.com/ausschreibung/03109904-c56f-4068-ae6c-be5ced9ddb08/
END:VEVENT
BEGIN:VEVENT
UID:aba5b8aabbca1344@ausschreibungsradar.com
DTSTAMP:20260424T063241Z
DTSTART;VALUE=DATE:20251124
DTEND;VALUE=DATE:20251124
SUMMARY:Vergabeergebnis — Bauüberwachungsleistungen (IOH\, SiGeKo\, LST\, TK\, EEA)\, VST H
DESCRIPTION:Phase: Vergabeergebnis | Beschreibung: Sonstige Gründe | Link: https://ausschreibungsradar.com/ausschreibung/6678807a-5324-4d70-8a9f-a40ce3ed89ff/
URL:https://ausschreibungsradar.com/ausschreibung/6678807a-5324-4d70-8a9f-a40ce3ed89ff/
END:VEVENT
END:VCALENDAR
