BEGIN:VCALENDAR
VERSION:2.0
PRODID:-//AusschreibungsRadar//Timeline//DE
CALSCALE:GREGORIAN
METHOD:PUBLISH
X-WR-CALNAME:Projekt Generationenbrücke in Reit im Winkl - Nutzungsänderung zu ei
X-WR-TIMEZONE:Europe/Berlin
BEGIN:VEVENT
UID:f3d4dc4bdb4fb457@ausschreibungsradar.com
DTSTAMP:20260424T203824Z
DTSTART;VALUE=DATE:20250324
DTEND;VALUE=DATE:20250324
SUMMARY:Angebotsfrist — Generationenbrücke in Reit im Winkl - Nutzungsänderung zu ei
DESCRIPTION:Phase: Ausschreibung | Beschreibung: Angebote werden eingeholt | Link: https://ausschreibungsradar.com/ausschreibung/275ca111-1c8a-44db-925c-25e7cf88a75c/ | Geschätzter Wert: 260000 €
URL:https://ausschreibungsradar.com/ausschreibung/275ca111-1c8a-44db-925c-25e7cf88a75c/
END:VEVENT
BEGIN:VEVENT
UID:f9a21d4c8f1f0d02@ausschreibungsradar.com
DTSTAMP:20260424T203824Z
DTSTART;VALUE=DATE:20250502
DTEND;VALUE=DATE:20250502
SUMMARY:Vergabeergebnis — Generationenbrücke in Reit im Winkl - Nutzungsänderung zu ei
DESCRIPTION:Phase: Vergabeergebnis | Beschreibung: Keine Angebote eingegangen | Link: https://ausschreibungsradar.com/ausschreibung/03649b56-c769-4041-be8b-d5322f5d0e6b/ | Geschätzter Wert: 260000 €
URL:https://ausschreibungsradar.com/ausschreibung/03649b56-c769-4041-be8b-d5322f5d0e6b/
END:VEVENT
BEGIN:VEVENT
UID:9ebf38d71d4fa2f1@ausschreibungsradar.com
DTSTAMP:20260424T203824Z
DTSTART;VALUE=DATE:20250502
DTEND;VALUE=DATE:20250502
SUMMARY:Zuschlag — Generationenbrücke in Reit im Winkl - Nutzungsänderung zu ei
DESCRIPTION:Phase: Zuschlag | Beschreibung: Vergabeergebnis — Auftrag wurde erteilt oder Verfahren beendet. | Link: https://ausschreibungsradar.com/ausschreibung/ed90aec6-0bc8-4c56-be5f-e94e71f2e243/
URL:https://ausschreibungsradar.com/ausschreibung/ed90aec6-0bc8-4c56-be5f-e94e71f2e243/
END:VEVENT
END:VCALENDAR
