BEGIN:VCALENDAR
VERSION:2.0
PRODID:-//AusschreibungsRadar//Timeline//DE
CALSCALE:GREGORIAN
METHOD:PUBLISH
X-WR-CALNAME:Projekt VE110_2
X-WR-TIMEZONE:Europe/Berlin
BEGIN:VEVENT
UID:6964ec5853c2851a@ausschreibungsradar.com
DTSTAMP:20260424T082033Z
DTSTART;VALUE=DATE:20251021
DTEND;VALUE=DATE:20251021
SUMMARY:Angebotsfrist — VE110_2
DESCRIPTION:Phase: Ausschreibung | Beschreibung: Angebote werden eingeholt | Link: https://ausschreibungsradar.com/ausschreibung/020acb28-e409-45c7-82df-a552fde56fd2/
URL:https://ausschreibungsradar.com/ausschreibung/020acb28-e409-45c7-82df-a552fde56fd2/
END:VEVENT
BEGIN:VEVENT
UID:34b09998d320cced@ausschreibungsradar.com
DTSTAMP:20260424T082033Z
DTSTART;VALUE=DATE:20260106
DTEND;VALUE=DATE:20260106
SUMMARY:Vergabeergebnis — VE110_2
DESCRIPTION:Phase: Vergabeergebnis | Beschreibung: Auftrag wurde zugeschlagen | Link: https://ausschreibungsradar.com/ausschreibung/0373ce76-b65e-4c53-81ed-75e6824a68e4/
URL:https://ausschreibungsradar.com/ausschreibung/0373ce76-b65e-4c53-81ed-75e6824a68e4/
END:VEVENT
BEGIN:VEVENT
UID:5305bad7b1417144@ausschreibungsradar.com
DTSTAMP:20260424T082033Z
DTSTART;VALUE=DATE:20260106
DTEND;VALUE=DATE:20260106
SUMMARY:Zuschlag — VE110_2
DESCRIPTION:Phase: Zuschlag | Beschreibung: Vergabeergebnis — Auftrag wurde erteilt oder Verfahren beendet. | Link: https://ausschreibungsradar.com/ausschreibung/c0d16f2e-681f-4609-ba07-1732fdda232e/
URL:https://ausschreibungsradar.com/ausschreibung/c0d16f2e-681f-4609-ba07-1732fdda232e/
END:VEVENT
END:VCALENDAR
