BEGIN:VCALENDAR
VERSION:2.0
PRODID:-//AusschreibungsRadar//Timeline//DE
CALSCALE:GREGORIAN
METHOD:PUBLISH
X-WR-CALNAME:Projekt Transport und Verwertung von Rostschlacke aus der Restabfall
X-WR-TIMEZONE:Europe/Berlin
BEGIN:VEVENT
UID:8f57fdababf14636@ausschreibungsradar.com
DTSTAMP:20260426T015851Z
DTSTART;VALUE=DATE:20240613
DTEND;VALUE=DATE:20240613
SUMMARY:Angebotsfrist — Transport und Verwertung von Rostschlacke aus der Restabfall
DESCRIPTION:Phase: Ausschreibung | Beschreibung: Angebote werden eingeholt | Link: https://ausschreibungsradar.com/ausschreibung/6428be40-43ae-4a25-a74c-975b92114486/
URL:https://ausschreibungsradar.com/ausschreibung/6428be40-43ae-4a25-a74c-975b92114486/
END:VEVENT
BEGIN:VEVENT
UID:c5bad764a5bb2e63@ausschreibungsradar.com
DTSTAMP:20260426T015851Z
DTSTART;VALUE=DATE:20240717
DTEND;VALUE=DATE:20240717
SUMMARY:Vergabeergebnis — Transport und Verwertung von Rostschlacke aus der Restabfall
DESCRIPTION:Phase: Vergabeergebnis | Beschreibung: Auftrag wurde zugeschlagen | Link: https://ausschreibungsradar.com/ausschreibung/0399ba4e-f05c-4703-a0ba-de02c8d29924/
URL:https://ausschreibungsradar.com/ausschreibung/0399ba4e-f05c-4703-a0ba-de02c8d29924/
END:VEVENT
END:VCALENDAR
