BEGIN:VCALENDAR
VERSION:2.0
PRODID:-//AusschreibungsRadar//Timeline//DE
CALSCALE:GREGORIAN
METHOD:PUBLISH
X-WR-CALNAME:Projekt Bewachung Los 1 GU Marienehe, Los 2 GU Satower Str.
X-WR-TIMEZONE:Europe/Berlin
BEGIN:VEVENT
UID:ea0aa0e33347e28a@ausschreibungsradar.com
DTSTAMP:20260426T011811Z
DTSTART;VALUE=DATE:20260204
DTEND;VALUE=DATE:20260204
SUMMARY:Angebotsfrist — Bewachung Los 1 GU Marienehe\, Los 2 GU Satower Str.
DESCRIPTION:Phase: Ausschreibung | Beschreibung: Angebote werden eingeholt | Link: https://ausschreibungsradar.com/ausschreibung/163d7474-67a6-4038-b764-1fd783f594d1/
URL:https://ausschreibungsradar.com/ausschreibung/163d7474-67a6-4038-b764-1fd783f594d1/
END:VEVENT
BEGIN:VEVENT
UID:19a84893fc872006@ausschreibungsradar.com
DTSTAMP:20260426T011811Z
DTSTART;VALUE=DATE:20260323
DTEND;VALUE=DATE:20260323
SUMMARY:Vergabeergebnis — Bewachung Los 1 GU Marienehe\, Los 2 GU Satower Str.
DESCRIPTION:Phase: Vergabeergebnis | Beschreibung: Auftrag wurde zugeschlagen | Link: https://ausschreibungsradar.com/ausschreibung/03b97300-a78f-471a-80bb-9732c42ec6dc/
URL:https://ausschreibungsradar.com/ausschreibung/03b97300-a78f-471a-80bb-9732c42ec6dc/
END:VEVENT
END:VCALENDAR
