BEGIN:VCALENDAR
VERSION:2.0
PRODID:-//AusschreibungsRadar//Timeline//DE
CALSCALE:GREGORIAN
METHOD:PUBLISH
X-WR-CALNAME:Projekt Neubau Quartierstreff - Stahlbauarbeiten
X-WR-TIMEZONE:Europe/Berlin
BEGIN:VEVENT
UID:0bc6b6e94a9d2445@ausschreibungsradar.com
DTSTAMP:20260424T054428Z
DTSTART;VALUE=DATE:20251210
DTEND;VALUE=DATE:20251210
SUMMARY:Angebotsfrist — Neubau Quartierstreff - Stahlbauarbeiten
DESCRIPTION:Phase: Ausschreibung | Beschreibung: Angebote werden eingeholt | Link: https://ausschreibungsradar.com/ausschreibung/042722b5-9df3-466e-a4a4-bbae8f2c850a/
URL:https://ausschreibungsradar.com/ausschreibung/042722b5-9df3-466e-a4a4-bbae8f2c850a/
END:VEVENT
BEGIN:VEVENT
UID:305b0f88f4ea1d77@ausschreibungsradar.com
DTSTAMP:20260424T054428Z
DTSTART;VALUE=DATE:20251030
DTEND;VALUE=DATE:20251030
SUMMARY:Ausschreibung — Neubau Quartierstreff - Stahlbauarbeiten
DESCRIPTION:Phase: Ausschreibung | Beschreibung: Offizielle Ausschreibung mit Bieterfrist. | Link: https://ausschreibungsradar.com/ausschreibung/25245280-89cc-424a-9773-42ce2a225e9c/
URL:https://ausschreibungsradar.com/ausschreibung/25245280-89cc-424a-9773-42ce2a225e9c/
END:VEVENT
BEGIN:VEVENT
UID:14ddd383d6288f1d@ausschreibungsradar.com
DTSTAMP:20260424T054428Z
DTSTART;VALUE=DATE:20260311
DTEND;VALUE=DATE:20260311
SUMMARY:Vergabeergebnis — Neubau Quartierstreff - Stahlbauarbeiten
DESCRIPTION:Phase: Vergabeergebnis | Beschreibung: Auftrag wurde zugeschlagen | Link: https://ausschreibungsradar.com/ausschreibung/f32c6dba-4b48-4c31-b926-a5ae4efa6708/ | Geschätzter Wert: 100840 €
URL:https://ausschreibungsradar.com/ausschreibung/f32c6dba-4b48-4c31-b926-a5ae4efa6708/
END:VEVENT
END:VCALENDAR
