BEGIN:VCALENDAR
VERSION:2.0
PRODID:-//AusschreibungsRadar//Timeline//DE
CALSCALE:GREGORIAN
METHOD:PUBLISH
X-WR-CALNAME:Projekt VgV Fachplanung TGA (HLS) - Sanierung und optional Aufstocku
X-WR-TIMEZONE:Europe/Berlin
BEGIN:VEVENT
UID:043accfec51f421d@ausschreibungsradar.com
DTSTAMP:20260426T011857Z
DTSTART;VALUE=DATE:20250523
DTEND;VALUE=DATE:20250523
SUMMARY:Ausschreibung — VgV Fachplanung TGA (HLS) - Sanierung und optional Aufstocku
DESCRIPTION:Phase: Ausschreibung | Beschreibung: Angebote werden eingeholt | Link: https://ausschreibungsradar.com/ausschreibung/0450c50e-115d-4570-8d53-54d11beb2f1e/
URL:https://ausschreibungsradar.com/ausschreibung/0450c50e-115d-4570-8d53-54d11beb2f1e/
END:VEVENT
BEGIN:VEVENT
UID:168354f7c6975a6e@ausschreibungsradar.com
DTSTAMP:20260426T011857Z
DTSTART;VALUE=DATE:20250523
DTEND;VALUE=DATE:20250523
SUMMARY:Ausschreibung — VgV Fachplanung TGA (HLS) - Sanierung und optional Aufstocku
DESCRIPTION:Phase: Ausschreibung | Beschreibung: Offizielle Ausschreibung mit Bieterfrist. | Link: https://ausschreibungsradar.com/ausschreibung/f52b263f-13df-45f0-880a-2ac4213fb830/
URL:https://ausschreibungsradar.com/ausschreibung/f52b263f-13df-45f0-880a-2ac4213fb830/
END:VEVENT
BEGIN:VEVENT
UID:13f2c3a01e56d0f1@ausschreibungsradar.com
DTSTAMP:20260426T011857Z
DTSTART;VALUE=DATE:20251113
DTEND;VALUE=DATE:20251113
SUMMARY:Vergabeergebnis — VgV Fachplanung TGA (HLS) - Sanierung und optional Aufstocku
DESCRIPTION:Phase: Vergabeergebnis | Beschreibung: Auftrag wurde zugeschlagen | Link: https://ausschreibungsradar.com/ausschreibung/44669fa4-6332-4d4d-b7ff-a9134f2e428b/
URL:https://ausschreibungsradar.com/ausschreibung/44669fa4-6332-4d4d-b7ff-a9134f2e428b/
END:VEVENT
BEGIN:VEVENT
UID:99bea3b24cc1445c@ausschreibungsradar.com
DTSTAMP:20260426T011857Z
DTSTART;VALUE=DATE:20251113
DTEND;VALUE=DATE:20251113
SUMMARY:Zuschlag — VgV Fachplanung TGA (HLS) - Sanierung und optional Aufstocku
DESCRIPTION:Phase: Zuschlag | Beschreibung: Vergabeergebnis — Auftrag wurde erteilt oder Verfahren beendet. | Link: https://ausschreibungsradar.com/ausschreibung/daa9f15c-b044-4c9f-8415-853d2fd94828/
URL:https://ausschreibungsradar.com/ausschreibung/daa9f15c-b044-4c9f-8415-853d2fd94828/
END:VEVENT
BEGIN:VEVENT
UID:ebcbd895f0719624@ausschreibungsradar.com
DTSTAMP:20260426T011857Z
DTSTART;VALUE=DATE:20251113
DTEND;VALUE=DATE:20251113
SUMMARY:Zuschlag — VgV Fachplanung TGA (HLS) - Sanierung und optional Aufstocku
DESCRIPTION:Phase: Zuschlag | Beschreibung: Vergabeergebnis — Auftrag wurde erteilt oder Verfahren beendet. | Link: https://ausschreibungsradar.com/ausschreibung/d8eed865-1d7e-4c1c-93c0-a7a37c063b3f/
URL:https://ausschreibungsradar.com/ausschreibung/d8eed865-1d7e-4c1c-93c0-a7a37c063b3f/
END:VEVENT
BEGIN:VEVENT
UID:62da2a38a254bf52@ausschreibungsradar.com
DTSTAMP:20260426T011857Z
DTSTART;VALUE=DATE:20251113
DTEND;VALUE=DATE:20251113
SUMMARY:Zuschlag — VgV Fachplanung TGA (HLS) - Sanierung und optional Aufstocku
DESCRIPTION:Phase: Zuschlag | Beschreibung: Vergabeergebnis — Auftrag wurde erteilt oder Verfahren beendet. | Link: https://ausschreibungsradar.com/ausschreibung/64fcdcf3-3300-427a-937d-bbf7e2eb2822/
URL:https://ausschreibungsradar.com/ausschreibung/64fcdcf3-3300-427a-937d-bbf7e2eb2822/
END:VEVENT
END:VCALENDAR
