BEGIN:VCALENDAR
VERSION:2.0
PRODID:-//AusschreibungsRadar//Timeline//DE
CALSCALE:GREGORIAN
METHOD:PUBLISH
X-WR-CALNAME:Projekt Offenland-Biotopkartierung 2025
X-WR-TIMEZONE:Europe/Berlin
BEGIN:VEVENT
UID:11a8b8c25575ea19@ausschreibungsradar.com
DTSTAMP:20260424T152023Z
DTSTART;VALUE=DATE:20241106
DTEND;VALUE=DATE:20241106
SUMMARY:Angebotsfrist — Offenland-Biotopkartierung 2025
DESCRIPTION:Phase: Ausschreibung | Beschreibung: Angebote werden eingeholt | Link: https://ausschreibungsradar.com/ausschreibung/23e3b41d-2543-4980-a9a7-76284b5a530d/
URL:https://ausschreibungsradar.com/ausschreibung/23e3b41d-2543-4980-a9a7-76284b5a530d/
END:VEVENT
BEGIN:VEVENT
UID:b8a17d93a9e52b9b@ausschreibungsradar.com
DTSTAMP:20260424T152023Z
DTSTART;VALUE=DATE:20241230
DTEND;VALUE=DATE:20241230
SUMMARY:Vergabeergebnis — Offenland-Biotopkartierung 2025
DESCRIPTION:Phase: Vergabeergebnis | Beschreibung: Auftrag wurde zugeschlagen | Link: https://ausschreibungsradar.com/ausschreibung/04a5acf3-c244-431c-868d-02e762685e7d/
URL:https://ausschreibungsradar.com/ausschreibung/04a5acf3-c244-431c-868d-02e762685e7d/
END:VEVENT
END:VCALENDAR
