BEGIN:VCALENDAR
VERSION:2.0
PRODID:-//AusschreibungsRadar//Timeline//DE
CALSCALE:GREGORIAN
METHOD:PUBLISH
X-WR-CALNAME:Projekt Leistungen der Objektplanung Gebäude für die Energetische Sa
X-WR-TIMEZONE:Europe/Berlin
BEGIN:VEVENT
UID:68da1a980dc17ab7@ausschreibungsradar.com
DTSTAMP:20260424T054528Z
DTSTART;VALUE=DATE:20240903
DTEND;VALUE=DATE:20240903
SUMMARY:Ausschreibung — Leistungen der Objektplanung Gebäude für die Energetische Sa
DESCRIPTION:Phase: Ausschreibung | Beschreibung: Angebote werden eingeholt | Link: https://ausschreibungsradar.com/ausschreibung/052a164d-a570-41c1-ae2c-e606d80570e5/
URL:https://ausschreibungsradar.com/ausschreibung/052a164d-a570-41c1-ae2c-e606d80570e5/
END:VEVENT
BEGIN:VEVENT
UID:c59cc41c28b9a515@ausschreibungsradar.com
DTSTAMP:20260424T054528Z
DTSTART;VALUE=DATE:20240903
DTEND;VALUE=DATE:20240903
SUMMARY:Ausschreibung — Leistungen der Objektplanung Gebäude für die Energetische Sa
DESCRIPTION:Phase: Ausschreibung | Beschreibung: Offizielle Ausschreibung mit Bieterfrist. | Link: https://ausschreibungsradar.com/ausschreibung/8f4b6d09-8c56-4529-940f-1923452b9990/
URL:https://ausschreibungsradar.com/ausschreibung/8f4b6d09-8c56-4529-940f-1923452b9990/
END:VEVENT
BEGIN:VEVENT
UID:b3ae2f27d4f38711@ausschreibungsradar.com
DTSTAMP:20260424T054528Z
DTSTART;VALUE=DATE:20240903
DTEND;VALUE=DATE:20240903
SUMMARY:Ausschreibung — Leistungen der Objektplanung Gebäude für die Energetische Sa
DESCRIPTION:Phase: Ausschreibung | Beschreibung: Offizielle Ausschreibung mit Bieterfrist. | Link: https://ausschreibungsradar.com/ausschreibung/737806a4-87af-43e9-9005-e7b3fd8eb345/
URL:https://ausschreibungsradar.com/ausschreibung/737806a4-87af-43e9-9005-e7b3fd8eb345/
END:VEVENT
BEGIN:VEVENT
UID:9c59d52ab7517f60@ausschreibungsradar.com
DTSTAMP:20260424T054528Z
DTSTART;VALUE=DATE:20250224
DTEND;VALUE=DATE:20250224
SUMMARY:Vergabeergebnis — Leistungen der Objektplanung Gebäude für die Energetische Sa
DESCRIPTION:Phase: Vergabeergebnis | Beschreibung: Auftrag wurde zugeschlagen | Link: https://ausschreibungsradar.com/ausschreibung/40b0da67-2ebb-4a8e-b6b8-5df6dd7fe699/
URL:https://ausschreibungsradar.com/ausschreibung/40b0da67-2ebb-4a8e-b6b8-5df6dd7fe699/
END:VEVENT
END:VCALENDAR
