BEGIN:VCALENDAR
VERSION:2.0
PRODID:-//AusschreibungsRadar//Timeline//DE
CALSCALE:GREGORIAN
METHOD:PUBLISH
X-WR-CALNAME:Projekt Münster, Forschungsfertigung Batteriezelle 2.BA Fab; Fassade
X-WR-TIMEZONE:Europe/Berlin
BEGIN:VEVENT
UID:25e9d3938d1e5592@ausschreibungsradar.com
DTSTAMP:20260424T111958Z
DTSTART;VALUE=DATE:20250731
DTEND;VALUE=DATE:20250731
SUMMARY:Angebotsfrist — Münster\, Forschungsfertigung Batteriezelle 2.BA Fab\; Fassade
DESCRIPTION:Phase: Ausschreibung | Beschreibung: Angebote werden eingeholt | Link: https://ausschreibungsradar.com/ausschreibung/05531cf2-80b1-450e-b76d-b8cf2c114b36/
URL:https://ausschreibungsradar.com/ausschreibung/05531cf2-80b1-450e-b76d-b8cf2c114b36/
END:VEVENT
BEGIN:VEVENT
UID:01cc1706a54b8cb1@ausschreibungsradar.com
DTSTAMP:20260424T111958Z
DTSTART;VALUE=DATE:20251104
DTEND;VALUE=DATE:20251104
SUMMARY:Vergabeergebnis — Münster\, Forschungsfertigung Batteriezelle 2.BA Fab\; Fassade
DESCRIPTION:Phase: Vergabeergebnis | Beschreibung: Auftrag wurde zugeschlagen | Link: https://ausschreibungsradar.com/ausschreibung/ec4c5a8d-6a46-49a3-aab9-640c6dd578b2/
URL:https://ausschreibungsradar.com/ausschreibung/ec4c5a8d-6a46-49a3-aab9-640c6dd578b2/
END:VEVENT
END:VCALENDAR
