BEGIN:VCALENDAR
VERSION:2.0
PRODID:-//AusschreibungsRadar//Timeline//DE
CALSCALE:GREGORIAN
METHOD:PUBLISH
X-WR-CALNAME:Projekt Gemeinde Tappenbeck: Neubau eines Sport- und Gemeinschaftspa
X-WR-TIMEZONE:Europe/Berlin
BEGIN:VEVENT
UID:ef0711f2ee23d732@ausschreibungsradar.com
DTSTAMP:20260424T134230Z
DTSTART;VALUE=DATE:20250922
DTEND;VALUE=DATE:20250922
SUMMARY:Ausschreibung — Gemeinde Tappenbeck: Neubau eines Sport- und Gemeinschaftspa
DESCRIPTION:Phase: Ausschreibung | Beschreibung: Offizielle Ausschreibung mit Bieterfrist. | Link: https://ausschreibungsradar.com/ausschreibung/24429318/
URL:https://ausschreibungsradar.com/ausschreibung/24429318/
END:VEVENT
BEGIN:VEVENT
UID:590b5e676d7b8a2d@ausschreibungsradar.com
DTSTAMP:20260424T134230Z
DTSTART;VALUE=DATE:20250923
DTEND;VALUE=DATE:20250923
SUMMARY:Zuschlag — Gemeinde Tappenbeck: Neubau eines Sport- und Gemeinschaftspa
DESCRIPTION:Phase: Zuschlag | Beschreibung: Vergabeergebnis — Auftrag wurde erteilt oder Verfahren beendet. | Link: https://ausschreibungsradar.com/ausschreibung/b7a5fa23-4fa3-4d59-aca3-524ef7105240/
URL:https://ausschreibungsradar.com/ausschreibung/b7a5fa23-4fa3-4d59-aca3-524ef7105240/
END:VEVENT
BEGIN:VEVENT
UID:abd242a7eacc69ca@ausschreibungsradar.com
DTSTAMP:20260424T134230Z
DTSTART;VALUE=DATE:20251113
DTEND;VALUE=DATE:20251113
SUMMARY:Angebotsfrist — Gemeinde Tappenbeck: Neubau eines Sport- und Gemeinschaftspa
DESCRIPTION:Phase: Ausschreibung | Beschreibung: Angebote werden eingeholt | Link: https://ausschreibungsradar.com/ausschreibung/05c7dc90-60e3-4d92-9aab-7bfa7e3f8d71/
URL:https://ausschreibungsradar.com/ausschreibung/05c7dc90-60e3-4d92-9aab-7bfa7e3f8d71/
END:VEVENT
BEGIN:VEVENT
UID:76b27bb3e2b8f4b9@ausschreibungsradar.com
DTSTAMP:20260424T134230Z
DTSTART;VALUE=DATE:20251010
DTEND;VALUE=DATE:20251010
SUMMARY:Ausschreibung — Gemeinde Tappenbeck: Neubau eines Sport- und Gemeinschaftspa
DESCRIPTION:Phase: Ausschreibung | Beschreibung: Offizielle Ausschreibung mit Bieterfrist. | Link: https://ausschreibungsradar.com/ausschreibung/529b5e9c-1337-48f8-ba09-5664f90ae432/
URL:https://ausschreibungsradar.com/ausschreibung/529b5e9c-1337-48f8-ba09-5664f90ae432/
END:VEVENT
BEGIN:VEVENT
UID:9fcc64ee2f2be53f@ausschreibungsradar.com
DTSTAMP:20260424T134230Z
DTSTART;VALUE=DATE:20251024
DTEND;VALUE=DATE:20251024
SUMMARY:Ausschreibung — Gemeinde Tappenbeck: Neubau eines Sport- und Gemeinschaftspa
DESCRIPTION:Phase: Ausschreibung | Beschreibung: Offizielle Ausschreibung mit Bieterfrist. | Link: https://ausschreibungsradar.com/ausschreibung/24572078/
URL:https://ausschreibungsradar.com/ausschreibung/24572078/
END:VEVENT
BEGIN:VEVENT
UID:4ee19336dac76b13@ausschreibungsradar.com
DTSTAMP:20260424T134230Z
DTSTART;VALUE=DATE:20260227
DTEND;VALUE=DATE:20260227
SUMMARY:Vergabeergebnis — Gemeinde Tappenbeck: Neubau eines Sport- und Gemeinschaftspa
DESCRIPTION:Phase: Vergabeergebnis | Beschreibung: Auftrag wurde zugeschlagen | Link: https://ausschreibungsradar.com/ausschreibung/7746a531-473b-4916-98fa-ff001235f17a/
URL:https://ausschreibungsradar.com/ausschreibung/7746a531-473b-4916-98fa-ff001235f17a/
END:VEVENT
END:VCALENDAR
