BEGIN:VCALENDAR
VERSION:2.0
PRODID:-//AusschreibungsRadar//Timeline//DE
CALSCALE:GREGORIAN
METHOD:PUBLISH
X-WR-CALNAME:Projekt Erweiterungsbau RealschulePlus Birkenfeld: vorgehängte Fassa
X-WR-TIMEZONE:Europe/Berlin
BEGIN:VEVENT
UID:2d52925d368f73bb@ausschreibungsradar.com
DTSTAMP:20260425T205405Z
DTSTART;VALUE=DATE:20251223
DTEND;VALUE=DATE:20251223
SUMMARY:Ausschreibung — Erweiterungsbau RealschulePlus Birkenfeld: vorgehängte Fassa
DESCRIPTION:Phase: Ausschreibung | Beschreibung: Angebote werden eingeholt | Link: https://ausschreibungsradar.com/ausschreibung/06426f07-84d4-499d-b362-308832ee3d73/
URL:https://ausschreibungsradar.com/ausschreibung/06426f07-84d4-499d-b362-308832ee3d73/
END:VEVENT
BEGIN:VEVENT
UID:4b910a4dab6bf5c7@ausschreibungsradar.com
DTSTAMP:20260425T205405Z
DTSTART;VALUE=DATE:20251223
DTEND;VALUE=DATE:20251223
SUMMARY:Ausschreibung — Erweiterungsbau RealschulePlus Birkenfeld: vorgehängte Fassa
DESCRIPTION:Phase: Ausschreibung | Beschreibung: Offizielle Ausschreibung mit Bieterfrist. | Link: https://ausschreibungsradar.com/ausschreibung/22f02ae1-4703-40fe-ad1c-c96429d416ff/
URL:https://ausschreibungsradar.com/ausschreibung/22f02ae1-4703-40fe-ad1c-c96429d416ff/
END:VEVENT
BEGIN:VEVENT
UID:120277e3fe2cd163@ausschreibungsradar.com
DTSTAMP:20260425T205405Z
DTSTART;VALUE=DATE:20260330
DTEND;VALUE=DATE:20260330
SUMMARY:Vergabeergebnis — Erweiterungsbau RealschulePlus Birkenfeld: vorgehängte Fassa
DESCRIPTION:Phase: Vergabeergebnis | Beschreibung: Auftrag wurde zugeschlagen | Link: https://ausschreibungsradar.com/ausschreibung/9603151c-fdd2-4866-854f-99c94f266ba6/
URL:https://ausschreibungsradar.com/ausschreibung/9603151c-fdd2-4866-854f-99c94f266ba6/
END:VEVENT
END:VCALENDAR
