BEGIN:VCALENDAR
VERSION:2.0
PRODID:-//AusschreibungsRadar//Timeline//DE
CALSCALE:GREGORIAN
METHOD:PUBLISH
X-WR-CALNAME:Projekt A4, Fahrbahnerneuerung AS Dresden-Neustadt - AD Dresden-Nord
X-WR-TIMEZONE:Europe/Berlin
BEGIN:VEVENT
UID:e06c13bcd3ebd93a@ausschreibungsradar.com
DTSTAMP:20260424T233410Z
DTSTART;VALUE=DATE:20260226
DTEND;VALUE=DATE:20260226
SUMMARY:Angebotsfrist — A4\, Fahrbahnerneuerung AS Dresden-Neustadt - AD Dresden-Nord
DESCRIPTION:Phase: Ausschreibung | Beschreibung: Angebote werden eingeholt | Link: https://ausschreibungsradar.com/ausschreibung/0646546c-c6b5-4b82-acff-67d85fe21320/ | Geschätzter Wert: 477061 €
URL:https://ausschreibungsradar.com/ausschreibung/0646546c-c6b5-4b82-acff-67d85fe21320/
END:VEVENT
BEGIN:VEVENT
UID:598eeb4c2461dd39@ausschreibungsradar.com
DTSTAMP:20260424T233410Z
DTSTART;VALUE=DATE:20260414
DTEND;VALUE=DATE:20260414
SUMMARY:Vergabeergebnis — A4\, Fahrbahnerneuerung AS Dresden-Neustadt - AD Dresden-Nord
DESCRIPTION:Phase: Vergabeergebnis | Beschreibung: Auftrag wurde zugeschlagen | Link: https://ausschreibungsradar.com/ausschreibung/ec4a89f0-455b-4354-8895-14ad503d43ef/ | Geschätzter Wert: 477061 €
URL:https://ausschreibungsradar.com/ausschreibung/ec4a89f0-455b-4354-8895-14ad503d43ef/
END:VEVENT
END:VCALENDAR
