BEGIN:VCALENDAR
VERSION:2.0
PRODID:-//AusschreibungsRadar//Timeline//DE
CALSCALE:GREGORIAN
METHOD:PUBLISH
X-WR-CALNAME:Projekt Brainergy Park Energie GmbH wg. Baustraßen, Versorgungsgräbe
X-WR-TIMEZONE:Europe/Berlin
BEGIN:VEVENT
UID:bdbdacf9a9c71712@ausschreibungsradar.com
DTSTAMP:20260424T144031Z
DTSTART;VALUE=DATE:20250507
DTEND;VALUE=DATE:20250507
SUMMARY:Ausschreibung — Brainergy Park Energie GmbH wg. Baustraßen\, Versorgungsgräbe
DESCRIPTION:Phase: Ausschreibung | Beschreibung: Angebote werden eingeholt | Link: https://ausschreibungsradar.com/ausschreibung/06601b86-1954-4d57-985e-bd7c4b27ff0d/
URL:https://ausschreibungsradar.com/ausschreibung/06601b86-1954-4d57-985e-bd7c4b27ff0d/
END:VEVENT
BEGIN:VEVENT
UID:20167bf6e57218ad@ausschreibungsradar.com
DTSTAMP:20260424T144031Z
DTSTART;VALUE=DATE:20250507
DTEND;VALUE=DATE:20250507
SUMMARY:Ausschreibung — Brainergy Park Energie GmbH wg. Baustraßen\, Versorgungsgräbe
DESCRIPTION:Phase: Ausschreibung | Beschreibung: Offizielle Ausschreibung mit Bieterfrist. | Link: https://ausschreibungsradar.com/ausschreibung/2150144f-eae7-43d9-8a87-674129527d39/
URL:https://ausschreibungsradar.com/ausschreibung/2150144f-eae7-43d9-8a87-674129527d39/
END:VEVENT
BEGIN:VEVENT
UID:de206625133bcb4a@ausschreibungsradar.com
DTSTAMP:20260424T144031Z
DTSTART;VALUE=DATE:20250509
DTEND;VALUE=DATE:20250509
SUMMARY:Ausschreibung — Brainergy Park Energie GmbH wg. Baustraßen\, Versorgungsgräbe
DESCRIPTION:Phase: Ausschreibung | Beschreibung: Offizielle Ausschreibung mit Bieterfrist. | Link: https://ausschreibungsradar.com/ausschreibung/b97c0bde-356e-4e15-9f88-e1b390374428/
URL:https://ausschreibungsradar.com/ausschreibung/b97c0bde-356e-4e15-9f88-e1b390374428/
END:VEVENT
BEGIN:VEVENT
UID:a0071b6b62c65195@ausschreibungsradar.com
DTSTAMP:20260424T144031Z
DTSTART;VALUE=DATE:20250509
DTEND;VALUE=DATE:20250509
SUMMARY:Ausschreibung — Brainergy Park Energie GmbH wg. Baustraßen\, Versorgungsgräbe
DESCRIPTION:Phase: Ausschreibung | Beschreibung: Offizielle Ausschreibung mit Bieterfrist. | Link: https://ausschreibungsradar.com/ausschreibung/dc56a8a5-1590-4844-8e6a-905dc256acf7/
URL:https://ausschreibungsradar.com/ausschreibung/dc56a8a5-1590-4844-8e6a-905dc256acf7/
END:VEVENT
BEGIN:VEVENT
UID:8491cebc5694d7af@ausschreibungsradar.com
DTSTAMP:20260424T144031Z
DTSTART;VALUE=DATE:20251127
DTEND;VALUE=DATE:20251127
SUMMARY:Vergabeergebnis — Brainergy Park Energie GmbH wg. Baustraßen\, Versorgungsgräbe
DESCRIPTION:Phase: Vergabeergebnis | Beschreibung: Auftrag wurde zugeschlagen | Link: https://ausschreibungsradar.com/ausschreibung/c329dafd-8b45-41ea-9ec3-5d3a6f9545bb/
URL:https://ausschreibungsradar.com/ausschreibung/c329dafd-8b45-41ea-9ec3-5d3a6f9545bb/
END:VEVENT
END:VCALENDAR
