BEGIN:VCALENDAR
VERSION:2.0
PRODID:-//AusschreibungsRadar//Timeline//DE
CALSCALE:GREGORIAN
METHOD:PUBLISH
X-WR-CALNAME:Projekt BUND-Umwelthaus Erschließungsarbeiten
X-WR-TIMEZONE:Europe/Berlin
BEGIN:VEVENT
UID:b4eec9f3b6ef7f14@ausschreibungsradar.com
DTSTAMP:20260425T184343Z
DTSTART;VALUE=DATE:20250602
DTEND;VALUE=DATE:20250602
SUMMARY:Angebotsfrist — BUND-Umwelthaus Erschließungsarbeiten
DESCRIPTION:Phase: Ausschreibung | Beschreibung: Angebote werden eingeholt | Link: https://ausschreibungsradar.com/ausschreibung/06d21ce4-a3d3-4c91-9907-874ebeaeaedf/
URL:https://ausschreibungsradar.com/ausschreibung/06d21ce4-a3d3-4c91-9907-874ebeaeaedf/
END:VEVENT
END:VCALENDAR
