BEGIN:VCALENDAR
VERSION:2.0
PRODID:-//AusschreibungsRadar//Timeline//DE
CALSCALE:GREGORIAN
METHOD:PUBLISH
X-WR-CALNAME:Projekt Kreisverwaltung des Landkreises Darmstadt-Dieburg -IT an Sch
X-WR-TIMEZONE:Europe/Berlin
BEGIN:VEVENT
UID:8a64195adb20e0e4@ausschreibungsradar.com
DTSTAMP:20260424T091223Z
DTSTART;VALUE=DATE:20260112
DTEND;VALUE=DATE:20260112
SUMMARY:Angebotsfrist — Kreisverwaltung des Landkreises Darmstadt-Dieburg -IT an Sch
DESCRIPTION:Phase: Ausschreibung | Beschreibung: Angebote werden eingeholt | Link: https://ausschreibungsradar.com/ausschreibung/06db99ea-12f6-4bc9-b424-bb5124960635/ | Geschätzter Wert: 2197080 €
URL:https://ausschreibungsradar.com/ausschreibung/06db99ea-12f6-4bc9-b424-bb5124960635/
END:VEVENT
BEGIN:VEVENT
UID:e50755eb4752e41e@ausschreibungsradar.com
DTSTAMP:20260424T091223Z
DTSTART;VALUE=DATE:20251127
DTEND;VALUE=DATE:20251127
SUMMARY:Ausschreibung — Kreisverwaltung des Landkreises Darmstadt-Dieburg -IT an Sch
DESCRIPTION:Phase: Ausschreibung | Beschreibung: Offizielle Ausschreibung mit Bieterfrist. | Link: https://ausschreibungsradar.com/ausschreibung/c16f1552-c4eb-469f-b58b-e7751b1340bf/
URL:https://ausschreibungsradar.com/ausschreibung/c16f1552-c4eb-469f-b58b-e7751b1340bf/
END:VEVENT
BEGIN:VEVENT
UID:3f08371b921b889d@ausschreibungsradar.com
DTSTAMP:20260424T091223Z
DTSTART;VALUE=DATE:20251207
DTEND;VALUE=DATE:20251207
SUMMARY:Ausschreibung — Kreisverwaltung des Landkreises Darmstadt-Dieburg -IT an Sch
DESCRIPTION:Phase: Ausschreibung | Beschreibung: Offizielle Ausschreibung mit Bieterfrist. | Link: https://ausschreibungsradar.com/ausschreibung/06046fd7-ca69-4bfa-b9e0-48d1719d4b44/
URL:https://ausschreibungsradar.com/ausschreibung/06046fd7-ca69-4bfa-b9e0-48d1719d4b44/
END:VEVENT
END:VCALENDAR
