BEGIN:VCALENDAR
VERSION:2.0
PRODID:-//AusschreibungsRadar//Timeline//DE
CALSCALE:GREGORIAN
METHOD:PUBLISH
X-WR-CALNAME:Projekt Offenes Verfahren über die IT Netzwerkbetreuung für die Beru
X-WR-TIMEZONE:Europe/Berlin
BEGIN:VEVENT
UID:2ed3e9f50de4a287@ausschreibungsradar.com
DTSTAMP:20260424T051019Z
DTSTART;VALUE=DATE:20260417
DTEND;VALUE=DATE:20260417
SUMMARY:Ausschreibung — Offenes Verfahren über die IT Netzwerkbetreuung für die Beru
DESCRIPTION:Phase: Ausschreibung | Beschreibung: Offizielle Ausschreibung mit Bieterfrist. | Link: https://ausschreibungsradar.com/ausschreibung/06ee9979-8010-4674-b124-9324e7d23e13/ | Geschätzter Wert: 256000 €
URL:https://ausschreibungsradar.com/ausschreibung/06ee9979-8010-4674-b124-9324e7d23e13/
END:VEVENT
BEGIN:VEVENT
UID:ac3efc514ea2c00a@ausschreibungsradar.com
DTSTAMP:20260424T051019Z
DTSTART;VALUE=DATE:20260420
DTEND;VALUE=DATE:20260420
SUMMARY:Ausschreibung — Offenes Verfahren über die IT Netzwerkbetreuung für die Beru
DESCRIPTION:Phase: Ausschreibung | Beschreibung: Offizielle Ausschreibung mit Bieterfrist. | Link: https://ausschreibungsradar.com/ausschreibung/ted-267971-2026/
URL:https://ausschreibungsradar.com/ausschreibung/ted-267971-2026/
END:VEVENT
END:VCALENDAR
