BEGIN:VCALENDAR
VERSION:2.0
PRODID:-//AusschreibungsRadar//Timeline//DE
CALSCALE:GREGORIAN
METHOD:PUBLISH
X-WR-CALNAME:Projekt Lieferung von Teleskopradlader als Salzladegerät für den LBV
X-WR-TIMEZONE:Europe/Berlin
BEGIN:VEVENT
UID:95bfa0dd3c688b07@ausschreibungsradar.com
DTSTAMP:20260425T194850Z
DTSTART;VALUE=DATE:20260413
DTEND;VALUE=DATE:20260413
SUMMARY:Angebotsfrist — Lieferung von Teleskopradlader als Salzladegerät für den LBV
DESCRIPTION:Phase: Ausschreibung | Beschreibung: Angebote werden eingeholt | Link: https://ausschreibungsradar.com/ausschreibung/07bb0a59-5d66-4457-9ba0-745f990781fb/
URL:https://ausschreibungsradar.com/ausschreibung/07bb0a59-5d66-4457-9ba0-745f990781fb/
END:VEVENT
END:VCALENDAR
