BEGIN:VCALENDAR
VERSION:2.0
PRODID:-//AusschreibungsRadar//Timeline//DE
CALSCALE:GREGORIAN
METHOD:PUBLISH
X-WR-CALNAME:Projekt Neubau Kindertagesstätte Hirtenklinge | Planerauswahl OPL
X-WR-TIMEZONE:Europe/Berlin
BEGIN:VEVENT
UID:671f08157290013f@ausschreibungsradar.com
DTSTAMP:20260424T203333Z
DTSTART;VALUE=DATE:20250319
DTEND;VALUE=DATE:20250319
SUMMARY:Ausschreibung — Neubau Kindertagesstätte Hirtenklinge | Planerauswahl OPL
DESCRIPTION:Phase: Ausschreibung | Beschreibung: Angebote werden eingeholt | Link: https://ausschreibungsradar.com/ausschreibung/36cec736-f1f0-4931-84aa-36f3f8815830/
URL:https://ausschreibungsradar.com/ausschreibung/36cec736-f1f0-4931-84aa-36f3f8815830/
END:VEVENT
BEGIN:VEVENT
UID:55d0e568561fe9b8@ausschreibungsradar.com
DTSTAMP:20260424T203333Z
DTSTART;VALUE=DATE:20251024
DTEND;VALUE=DATE:20251024
SUMMARY:Vergabeergebnis — Neubau Kindertagesstätte Hirtenklinge | Planerauswahl OPL
DESCRIPTION:Phase: Vergabeergebnis | Beschreibung: Auftrag wurde zugeschlagen | Link: https://ausschreibungsradar.com/ausschreibung/07d5bffa-cbff-45b6-b2b9-968e143a3a29/
URL:https://ausschreibungsradar.com/ausschreibung/07d5bffa-cbff-45b6-b2b9-968e143a3a29/
END:VEVENT
BEGIN:VEVENT
UID:f953c05e061d4cf8@ausschreibungsradar.com
DTSTAMP:20260424T203333Z
DTSTART;VALUE=DATE:20251024
DTEND;VALUE=DATE:20251024
SUMMARY:Zuschlag — Neubau Kindertagesstätte Hirtenklinge | Planerauswahl OPL
DESCRIPTION:Phase: Zuschlag | Beschreibung: Vergabeergebnis — Auftrag wurde erteilt oder Verfahren beendet. | Link: https://ausschreibungsradar.com/ausschreibung/76413b1e-2b5c-42ea-bb0b-06484ec2dadf/
URL:https://ausschreibungsradar.com/ausschreibung/76413b1e-2b5c-42ea-bb0b-06484ec2dadf/
END:VEVENT
END:VCALENDAR
