BEGIN:VCALENDAR
VERSION:2.0
PRODID:-//AusschreibungsRadar//Timeline//DE
CALSCALE:GREGORIAN
METHOD:PUBLISH
X-WR-CALNAME:Projekt Bewachung Los 1 Gemeinschaftsunterkunft Elbotel II, Los 2 Fl
X-WR-TIMEZONE:Europe/Berlin
BEGIN:VEVENT
UID:c72ac481bdf1dd27@ausschreibungsradar.com
DTSTAMP:20260424T054740Z
DTSTART;VALUE=DATE:20260129
DTEND;VALUE=DATE:20260129
SUMMARY:Ausschreibung — Bewachung Los 1 Gemeinschaftsunterkunft Elbotel II\, Los 2 Fl
DESCRIPTION:Phase: Ausschreibung | Beschreibung: Angebote werden eingeholt | Link: https://ausschreibungsradar.com/ausschreibung/082026e1-afe3-46b5-8456-df540b6da086/
URL:https://ausschreibungsradar.com/ausschreibung/082026e1-afe3-46b5-8456-df540b6da086/
END:VEVENT
BEGIN:VEVENT
UID:4e299fb4cf197ac8@ausschreibungsradar.com
DTSTAMP:20260424T054740Z
DTSTART;VALUE=DATE:20260421
DTEND;VALUE=DATE:20260421
SUMMARY:Vergabeergebnis — Bewachung Los 1 Gemeinschaftsunterkunft Elbotel II\, Los 2 Fl
DESCRIPTION:Phase: Vergabeergebnis | Beschreibung: Auftrag wurde zugeschlagen | Link: https://ausschreibungsradar.com/ausschreibung/8d27bb8f-b5a4-49cc-8b48-5ec88569abc3/
URL:https://ausschreibungsradar.com/ausschreibung/8d27bb8f-b5a4-49cc-8b48-5ec88569abc3/
END:VEVENT
END:VCALENDAR
