BEGIN:VCALENDAR
VERSION:2.0
PRODID:-//AusschreibungsRadar//Timeline//DE
CALSCALE:GREGORIAN
METHOD:PUBLISH
X-WR-CALNAME:Projekt Gebäudereinigung in Schulen
X-WR-TIMEZONE:Europe/Berlin
BEGIN:VEVENT
UID:499cc9538213c784@ausschreibungsradar.com
DTSTAMP:20260426T043248Z
DTSTART;VALUE=DATE:20240912
DTEND;VALUE=DATE:20240912
SUMMARY:Angebotsfrist — Gebäudereinigung in Schulen
DESCRIPTION:Phase: Ausschreibung | Beschreibung: Angebote werden eingeholt | Link: https://ausschreibungsradar.com/ausschreibung/08488b29-d399-4cec-9348-6b0424c61caf/
URL:https://ausschreibungsradar.com/ausschreibung/08488b29-d399-4cec-9348-6b0424c61caf/
END:VEVENT
BEGIN:VEVENT
UID:3509ad9bb8a6d7de@ausschreibungsradar.com
DTSTAMP:20260426T043248Z
DTSTART;VALUE=DATE:20241204
DTEND;VALUE=DATE:20241204
SUMMARY:Vergabeergebnis — Gebäudereinigung in Schulen
DESCRIPTION:Phase: Vergabeergebnis | Beschreibung: Auftrag wurde zugeschlagen | Link: https://ausschreibungsradar.com/ausschreibung/ea02dc3c-594c-4928-8b6e-68321467768d/
URL:https://ausschreibungsradar.com/ausschreibung/ea02dc3c-594c-4928-8b6e-68321467768d/
END:VEVENT
END:VCALENDAR
