BEGIN:VCALENDAR
VERSION:2.0
PRODID:-//AusschreibungsRadar//Timeline//DE
CALSCALE:GREGORIAN
METHOD:PUBLISH
X-WR-CALNAME:Projekt Rahmenvereinbarung Abt. III (Strom)
X-WR-TIMEZONE:Europe/Berlin
BEGIN:VEVENT
UID:a5e31123fa209803@ausschreibungsradar.com
DTSTAMP:20260424T144829Z
DTSTART;VALUE=DATE:20251007
DTEND;VALUE=DATE:20251007
SUMMARY:Angebotsfrist — Rahmenvereinbarung Abt. III (Strom)
DESCRIPTION:Phase: Ausschreibung | Beschreibung: Angebote werden eingeholt | Link: https://ausschreibungsradar.com/ausschreibung/51ba2865-d8f0-4392-bec1-202940a64a46/
URL:https://ausschreibungsradar.com/ausschreibung/51ba2865-d8f0-4392-bec1-202940a64a46/
END:VEVENT
BEGIN:VEVENT
UID:a9b50d4d392eec09@ausschreibungsradar.com
DTSTAMP:20260424T144829Z
DTSTART;VALUE=DATE:20260223
DTEND;VALUE=DATE:20260223
SUMMARY:Vergabeergebnis — Rahmenvereinbarung Abt. III (Strom)
DESCRIPTION:Phase: Vergabeergebnis | Beschreibung: Sonstige Gründe | Link: https://ausschreibungsradar.com/ausschreibung/08655c37-13ef-4f45-9f1a-fe4576341bab/
URL:https://ausschreibungsradar.com/ausschreibung/08655c37-13ef-4f45-9f1a-fe4576341bab/
END:VEVENT
END:VCALENDAR
