BEGIN:VCALENDAR
VERSION:2.0
PRODID:-//AusschreibungsRadar//Timeline//DE
CALSCALE:GREGORIAN
METHOD:PUBLISH
X-WR-CALNAME:Projekt Adobe Acrobat Standard DC und Pflege
X-WR-TIMEZONE:Europe/Berlin
BEGIN:VEVENT
UID:461fdc4d45a0c0f1@ausschreibungsradar.com
DTSTAMP:20260425T183203Z
DTSTART;VALUE=DATE:20250716
DTEND;VALUE=DATE:20250716
SUMMARY:Ausschreibung — Adobe Acrobat Standard DC und Pflege
DESCRIPTION:Phase: Ausschreibung | Beschreibung: Angebote werden eingeholt | Link: https://ausschreibungsradar.com/ausschreibung/089d5b22-c192-42de-9edc-0b1126f364c1/
URL:https://ausschreibungsradar.com/ausschreibung/089d5b22-c192-42de-9edc-0b1126f364c1/
END:VEVENT
BEGIN:VEVENT
UID:eced18126473cd7e@ausschreibungsradar.com
DTSTAMP:20260425T183203Z
DTSTART;VALUE=DATE:20250716
DTEND;VALUE=DATE:20250716
SUMMARY:Ausschreibung — Adobe Acrobat Standard DC und Pflege
DESCRIPTION:Phase: Ausschreibung | Beschreibung: Offizielle Ausschreibung mit Bieterfrist. | Link: https://ausschreibungsradar.com/ausschreibung/9bc240d0-cd6b-421f-aed1-e3533b9b7757/
URL:https://ausschreibungsradar.com/ausschreibung/9bc240d0-cd6b-421f-aed1-e3533b9b7757/
END:VEVENT
END:VCALENDAR
